BEGIN:VCALENDAR
VERSION:2.0
PRODID:-//negozee - ECPv6.15.12.2//NONSGML v1.0//EN
CALSCALE:GREGORIAN
METHOD:PUBLISH
X-WR-CALNAME:negozee
X-ORIGINAL-URL:https://negozee.com
X-WR-CALDESC:Events for negozee
REFRESH-INTERVAL;VALUE=DURATION:PT1H
X-Robots-Tag:noindex
X-PUBLISHED-TTL:PT1H
BEGIN:VTIMEZONE
TZID:America/Los_Angeles
BEGIN:DAYLIGHT
TZOFFSETFROM:-0800
TZOFFSETTO:-0700
TZNAME:PDT
DTSTART:20230312T100000
END:DAYLIGHT
BEGIN:STANDARD
TZOFFSETFROM:-0700
TZOFFSETTO:-0800
TZNAME:PST
DTSTART:20231105T090000
END:STANDARD
BEGIN:DAYLIGHT
TZOFFSETFROM:-0800
TZOFFSETTO:-0700
TZNAME:PDT
DTSTART:20240310T100000
END:DAYLIGHT
BEGIN:STANDARD
TZOFFSETFROM:-0700
TZOFFSETTO:-0800
TZNAME:PST
DTSTART:20241103T090000
END:STANDARD
BEGIN:DAYLIGHT
TZOFFSETFROM:-0800
TZOFFSETTO:-0700
TZNAME:PDT
DTSTART:20250309T100000
END:DAYLIGHT
BEGIN:STANDARD
TZOFFSETFROM:-0700
TZOFFSETTO:-0800
TZNAME:PST
DTSTART:20251102T090000
END:STANDARD
END:VTIMEZONE
BEGIN:VEVENT
DTSTART;TZID=America/Los_Angeles:20240402T160000
DTEND;TZID=America/Los_Angeles:20240402T190000
DTSTAMP:20260421T152733
CREATED:20240319T021754Z
LAST-MODIFIED:20240320T155712Z
UID:10000772-1712073600-1712084400@negozee.com
SUMMARY:Despega con Marketing Digital [Zoom Webinar]
DESCRIPTION:ESCALA\nTU NEGOCIO\nUTILIZANDO\nSEO\nMEJORAS A TU SITIO WEB \n¿Quieres llevar tu negocio al siguiente nivel?\nEn este webinar\, exploraremos las estrategias clave para optimizar tu presencia en línea y hacer que tu sitio web trabaje a tu favor. \nAPRENDERÁS \n\nLos fundamentos esenciales del SEO y cómo aplicarlos a tu sitio web.\nConsejos prácticos para mejorar la visibilidad de tu negocio en los motores de búsqueda.\nEstrategias efectivas para atraer más tráfico cualificado a tu sitio web.\nCómo convertir visitantes en clientes leales y aumentar tus conversiones.\n\nMARTES\n2 DE ABRIL\nHora: 4:00 p.m. PT / 7:00 p.m. ET\n¡No dejes pasar esta oportunidad de impulsar tu negocio hacia el éxito en línea! \n¡Regístrate ahora aquí para asegurar tu lugar en este webinar informativo y práctico! \n\n¡Regístrate ahora!\n\n¡TE ESPERAMOS!
URL:https://negozee.com/event/despega-con-marketing-digital-zoom-webinar/
CATEGORIES:Clase Virtual
ATTACH;FMTTYPE=image/webp:https://wp-negozee-conent.s3.amazonaws.com/wp-content/uploads/2024/03/26091039/Despega-Banner-2024-Fit.webp
END:VEVENT
END:VCALENDAR