BEGIN:VCALENDAR
VERSION:2.0
PRODID:-//negozee - ECPv6.15.12.2//NONSGML v1.0//EN
CALSCALE:GREGORIAN
METHOD:PUBLISH
X-WR-CALNAME:negozee
X-ORIGINAL-URL:https://negozee.com
X-WR-CALDESC:Events for negozee
REFRESH-INTERVAL;VALUE=DURATION:PT1H
X-Robots-Tag:noindex
X-PUBLISHED-TTL:PT1H
BEGIN:VTIMEZONE
TZID:America/Los_Angeles
BEGIN:DAYLIGHT
TZOFFSETFROM:-0800
TZOFFSETTO:-0700
TZNAME:PDT
DTSTART:20230312T100000
END:DAYLIGHT
BEGIN:STANDARD
TZOFFSETFROM:-0700
TZOFFSETTO:-0800
TZNAME:PST
DTSTART:20231105T090000
END:STANDARD
BEGIN:DAYLIGHT
TZOFFSETFROM:-0800
TZOFFSETTO:-0700
TZNAME:PDT
DTSTART:20240310T100000
END:DAYLIGHT
BEGIN:STANDARD
TZOFFSETFROM:-0700
TZOFFSETTO:-0800
TZNAME:PST
DTSTART:20241103T090000
END:STANDARD
BEGIN:DAYLIGHT
TZOFFSETFROM:-0800
TZOFFSETTO:-0700
TZNAME:PDT
DTSTART:20250309T100000
END:DAYLIGHT
BEGIN:STANDARD
TZOFFSETFROM:-0700
TZOFFSETTO:-0800
TZNAME:PST
DTSTART:20251102T090000
END:STANDARD
END:VTIMEZONE
BEGIN:VTIMEZONE
TZID:America/New_York
BEGIN:DAYLIGHT
TZOFFSETFROM:-0500
TZOFFSETTO:-0400
TZNAME:EDT
DTSTART:20230312T070000
END:DAYLIGHT
BEGIN:STANDARD
TZOFFSETFROM:-0400
TZOFFSETTO:-0500
TZNAME:EST
DTSTART:20231105T060000
END:STANDARD
BEGIN:DAYLIGHT
TZOFFSETFROM:-0500
TZOFFSETTO:-0400
TZNAME:EDT
DTSTART:20240310T070000
END:DAYLIGHT
BEGIN:STANDARD
TZOFFSETFROM:-0400
TZOFFSETTO:-0500
TZNAME:EST
DTSTART:20241103T060000
END:STANDARD
BEGIN:DAYLIGHT
TZOFFSETFROM:-0500
TZOFFSETTO:-0400
TZNAME:EDT
DTSTART:20250309T070000
END:DAYLIGHT
BEGIN:STANDARD
TZOFFSETFROM:-0400
TZOFFSETTO:-0500
TZNAME:EST
DTSTART:20251102T060000
END:STANDARD
END:VTIMEZONE
BEGIN:VEVENT
DTSTART;TZID=America/Los_Angeles:20240301T140000
DTEND;TZID=America/Los_Angeles:20240301T150000
DTSTAMP:20260421T152506
CREATED:20240229T211653Z
LAST-MODIFIED:20240229T212548Z
UID:10000750-1709301600-1709305200@negozee.com
SUMMARY:Docubee Demo - Onboarding en Español 100% [Zoom Virtual]
DESCRIPTION:✨ ¿Quieres aprender a firmar y gestionar documentos de manera digital con facilidad? \n📝 Únete a nuestro negozee🚀 webinar con Docubee🐝: La solución digital para firmas y gestión documental. \n🗓 Fecha y hora: Viernes\, 1 de Marzo de 2024\, 05:00 PM Hora del Este (EE. UU. y Canadá) \n🔗 Enlace de registro: 👉🏻 Regístrate aquí
URL:https://negozee.com/event/docubee-demo-onboarding-en-espanol-100-zoom-virtual/
CATEGORIES:Charla
ATTACH;FMTTYPE=image/jpeg:https://wp-negozee-conent.s3.amazonaws.com/wp-content/uploads/2024/02/26091259/unnamed.jpg
ORGANIZER;CN="negozee":MAILTO:info@negozee.com
END:VEVENT
BEGIN:VEVENT
DTSTART;TZID=America/New_York:20240302T150000
DTEND;TZID=America/New_York:20240302T160000
DTSTAMP:20260421T152506
CREATED:20240226T142603Z
LAST-MODIFIED:20240226T145727Z
UID:10000746-1709391600-1709395200@negozee.com
SUMMARY:¡Transforma Tu Pasión en Ganancia! [Zoom Webinar]
DESCRIPTION:🚀✨ ¡Inicia con Impacto y Despega Hacia el Éxito Fiscal! ✨🚀 \n\n👉 ¿Recién iniciado en el mundo de los impuestos? ¡Eso es una mina de oro! Aprende a usar tu fresca perspectiva para innovar y sobresalir en el mercado de taxes.\n👉  Desenmascara el arte de fijar precios que no solo reflejen el valor de tu trabajo\, sino que también te encaminen a alcanzar tus metas de ingresos. ¡Que tus tarifas hablen de la calidad que ofreces!\n👉 Domina habilidades indispensables y absorbe consejos prácticos que te equiparán para lanzar y escalar tu empresa de taxes con confianza. ¡Haz que tu negocio florezca desde su raíz!\n🌟 No permitas que otro minuto se desvanezca sin actuar hacia tu éxito en el sector fiscal. ¡Es tu hora de brillar!\n\n📅 Fecha: Marzo 2nd ⏰ Hora: 3:00pm EST 🔗 Lugar: Zoom Webinar \n✅ ¡Regístrate AHORA para nuestro Webinar GRATIS en Zoom y da el primer paso hacia la cima de tus metas financieras! \n📲 Haz clic AQUÍ para unirte a nosotros: 🔗 ¡Tu futuro en taxes te espera! ⬅️
URL:https://negozee.com/event/transforma-tu-pasion-en-ganancia-zoom-webinar/
CATEGORIES:Clase Virtual
ATTACH;FMTTYPE=image/jpeg:https://wp-negozee-conent.s3.amazonaws.com/wp-content/uploads/2024/02/26091228/%C2%A1Transforma-Tu-Pasion-en-Ganancia-Zoom-Webinar-1.jpg
END:VEVENT
BEGIN:VEVENT
DTSTART;TZID=America/Los_Angeles:20240307T093000
DTEND;TZID=America/Los_Angeles:20240307T113000
DTSTAMP:20260421T152506
CREATED:20240125T012725Z
LAST-MODIFIED:20240310T183714Z
UID:10000735-1709803800-1709811000@negozee.com
SUMMARY:2024 ¿Qué hay de Nuevo? Tax Updates Parte 2 [zoom virtual]
DESCRIPTION:Hay 3 maneras para ingresar a este webinar:\n1. Haz clic aquí para registrarte a este webinar por $68. \n2. Inscríbete a la membresía de negozee por $28 al mes y recibe acceso. \n3. VIP Members Activos: ¿Ya eres member de negozee? Ingresa al zoom aquí \n………………. \n\nAGENDA \n12:30pm ET – Bienvenidos  \n12:40pm ET: (Bloque 1 – 30 Minutos) \nFebrero recap – ¿Qué pasó? \nIRS tax return statistics – Ed Lantigua\, EA \n¿Más Child Tax Credit? – Tony Martinez\, EA \n¿Qué vine en Marzo y Abril? Stocks\, Rentals – Jesus Abikarram\, EA \nEnergy Efficient Home Improvement Credit – Will DeJesus\, CPA \nReal Estate & Taxes – Will DeJesus\, CPA \nBOI challenges – Jesus Abikarram\, EA \n  \n1:15pm ET: (Bloque 2 – 60 Minutos) \n1:15pm ET: Employee Retention Tax Credit Update – Robert Perez\, CPA \n1:30pm ET: The “Taxes-Security-Together” Checklist – (WatchCloud) \n1:45pm ET: Negocios Calientes (Miguel Govea & Xero) \n2:00pm ET: Bank Product Updates – RA & EPS \n2:15pm ET: PS Insurance – Paulo Segarra  \n2:30pm ET: Temas Varios \n\nS-Corp / LLC deadline Marzo 15\nExtensiones (Tax Planing 2023-2024)\nITIN updates – Cristina Villanueva\nPrecios: ¿Deberías cobrar más? Crypto\, Rental\, Corps\, Partnerships\nTax Employees / Staff – ¿fire or hire?\n\n  \n3:00 pm ET: Open Mic  \nBrand Partners: \n\nFreedom Tax\nConferencia FIT\nWatchCloud\nEPS Financial\nRefund Advantage\nXero\nPS Insurance\n\n……… \nJueves 7 de Marzo\n \n…. \nHay 3 maneras para ingresar a este webinar:\n1. Haz clic aquí para registrarte a este webinar por $68. \n2. Inscríbete a la membresía de negozee por $28 al mes y recibe acceso. \n3. VIP Members Activos: ¿Ya eres member de negozee? Ingresa al zoom aquí
URL:https://negozee.com/event/marzo-tax-updates/
CATEGORIES:Clase Virtual,Webinar
ATTACH;FMTTYPE=image/png:https://wp-negozee-conent.s3.amazonaws.com/wp-content/uploads/2022/12/26093559/2023QueHayDeNuevo-ngzee.png
ORGANIZER;CN="negozee":MAILTO:info@negozee.com
END:VEVENT
BEGIN:VEVENT
DTSTART;TZID=America/Los_Angeles:20240309T110000
DTEND;TZID=America/Los_Angeles:20240309T150000
DTSTAMP:20260421T152506
CREATED:20240207T173449Z
LAST-MODIFIED:20240304T142721Z
UID:10000740-1709982000-1709996400@negozee.com
SUMMARY:Mujeres Imparables [Miami]
DESCRIPTION:Nuestras increíbles “mujeres imparables”\, contadoras y profesionales de impuestos estarán el 9 de marzo en Miami en este increíble encuentro. 📊💼 \nPrepárate para catalizar tu potencial emprendedor y elevar tu desarrollo personal al próximo nivel! Únete a nosotros en la vibrante ciudad de Miami para el Encuentro de Emprendimiento y Superación Personal 2024\, un evento transformador que no solo te proporcionará conocimientos actualizados sobre estrategias fiscales\, sino que también te inspirará a expandir tu visión y conectar con líderes y pioneros que comparten tu ambición. \nEl evento se llevará a cabo el 09 de marzo de 2024\, a las 11 am Hora Este\, en el Club Towncenter Weston\, FL. Esta es tu oportunidad única de sumergirte en un ambiente donde las estrategias innovadoras y el asesoramiento experto de los profesionales de negozee y Zaitax Consulting te empoderarán para trascender tus límites. ¡Actúa ahora! Reserva tu espacio y comienza tu viaje hacia la excelencia y el éxito sin límites. ¡Recuerda\, las grandes oportunidades se construyen\, no esperan! \n¡Prepárate para la segunda edición de nuestro evento especial en honor al Día de la Mujer!  Este año\, celebramos a todas las mujeres imparables que han dejado una huella indeleble en el mundo.  \n Fecha: 09 de marzo 2024\n Hora: 11 am Hora Este\n Lugar: Club Towncenter Weston Fl
URL:https://negozee.com/event/mujeres-imparables-miami/
LOCATION:Club Towncenter Weston Fl\, FL\, 33326\, United States
ATTACH;FMTTYPE=image/png:https://wp-negozee-conent.s3.amazonaws.com/wp-content/uploads/2024/02/26091149/Mujeres_Imparables_Miami.png
ORGANIZER;CN="negozee":MAILTO:info@negozee.com
END:VEVENT
BEGIN:VEVENT
DTSTART;TZID=America/Los_Angeles:20240311T160000
DTEND;TZID=America/Los_Angeles:20240311T170000
DTSTAMP:20260421T152506
CREATED:20240309T171415Z
LAST-MODIFIED:20240311T013519Z
UID:10000751-1710172800-1710176400@negozee.com
SUMMARY:Tu Camino hacia la Libertad Financiera: ¡Educación en Bienes Raíces! [Zoom virtual]
DESCRIPTION:Hay 3 maneras para ingresar a este webinar:\n1. Haz clic aquí para registrarte a este webinar por $36. \n2. Inscríbete a la membresía de negozee por $28 al mes y recibe acceso. \n3. VIP Members Activos: ¿Ya eres member de negozee? Ingresa al zoom aquí \n 
URL:https://negozee.com/event/real-estate-bienes-raices-zoom-virtual/
CATEGORIES:Clase Virtual,Webinar
ATTACH;FMTTYPE=image/jpeg:https://wp-negozee-conent.s3.amazonaws.com/wp-content/uploads/2024/03/26091132/Event-Banner-1920-x-1080-px.jpg
ORGANIZER;CN="negozee":MAILTO:info@negozee.com
END:VEVENT
BEGIN:VEVENT
DTSTART;TZID=America/Los_Angeles:20240320T163000
DTEND;TZID=America/Los_Angeles:20240320T173000
DTSTAMP:20260421T152506
CREATED:20240320T204829Z
LAST-MODIFIED:20240515T205500Z
UID:10000773-1710952200-1710955800@negozee.com
SUMMARY:Tecnología para Negocios [zoom virtual]
DESCRIPTION:Regístrese para el siguiente episodio y descubra las mejores estrategias para potenciar su negocio. \nNuestra experta Luisa Nunez te enseña cómo utilizar herramientas y aplicaciones para hacer crecer su negocio. \nIngresa al zoom aquí \nhttps://bit.ly/technegocios-negozee \n  \n………. \nAcerca del webinar \nCrece tu negocio con tecnología \nAGENDA \nEl webinar comienza a las: \n4:30pm PT – California\n7:30pm ET – New York \n……… \nMiércoles 17 de Abril \nMiércoles 15 de Mayo \nMiércoles 19 de Junio
URL:https://negozee.com/event/tecnologia-para-negocios-zoom-virtual/2024-03-20/
ATTACH;FMTTYPE=image/jpeg:https://wp-negozee-conent.s3.amazonaws.com/wp-content/uploads/2024/03/26090958/negozee-txb.jpg
ORGANIZER;CN="negozee":MAILTO:info@negozee.com
END:VEVENT
BEGIN:VEVENT
DTSTART;TZID=America/Los_Angeles:20240321T130000
DTEND;TZID=America/Los_Angeles:20240321T163000
DTSTAMP:20260421T152506
CREATED:20240314T194836Z
LAST-MODIFIED:20240321T190925Z
UID:10000753-1711026000-1711038600@negozee.com
SUMMARY:Cómo incorporar un negocio con tu ITIN
DESCRIPTION:Webinar para negoziantes VIP \nzoom: https://us02web.zoom.us/j/81164743185 \n¿Todavia no eres negoziante VIP? Unete hoy por solo $28 al mes. \n….. \n\nJueves 21 de Marzo \n1pm PT – California \n3pm CT – Texas \n4pm ET – New York \n…. \n1:00pm – 1:10pm PT (10 minutes)\nBienvenidos \n1:10pm – 1:30pm PT (20 minutes)\nLLC con tu ITIN\nAntonio Martinez\, EA \n1:30pm – 2:00pm PT (30 minutes)\nBusiness Financial Statements – Profit & Loss & Balance Sheet\nLiz Aranda \n2:00pm – 2:10pm PT (20 minutes)\n401(k) – Nuevos Cambios\nHuman Interest \n2:10pm – 2:30pm PT (20 minutes)\nTax Resolution\nCommunity Tax \n2:30pm – 2:40pm PT (10 minutes)\nDocubee Demo\ne-signatures \n2:40pm – 3:10pm PT (30 minutes)\nPayroll para Restaurantes\nTrez & Fonda \n3:10pm – 3:30pm PT (20 minutes)\nBusiness Data Cybersecurity\nJose Lara y Mejico Angeles \n3:30pm – 4:20pm PT (50 minutes)\nCómo incorporar un negocio con tu ITIN\nJose Paredes\, CorpNet \n……… \nWebinar para negoziantes VIP \nzoom: https://us02web.zoom.us/j/81164743185 \n¿Todavia no eres negoziante VIP? Unete hoy por solo $28 al mes.
URL:https://negozee.com/event/incorporar-negocio-con-itin/
CATEGORIES:Clase Virtual
ATTACH;FMTTYPE=image/jpeg:https://wp-negozee-conent.s3.amazonaws.com/wp-content/uploads/2024/03/26091118/lady-helping-client.jpg
ORGANIZER;CN="negozee":MAILTO:info@negozee.com
END:VEVENT
END:VCALENDAR