BEGIN:VCALENDAR
VERSION:2.0
PRODID:-//negozee - ECPv6.15.12.2//NONSGML v1.0//EN
CALSCALE:GREGORIAN
METHOD:PUBLISH
X-ORIGINAL-URL:https://negozee.com
X-WR-CALDESC:Events for negozee
REFRESH-INTERVAL;VALUE=DURATION:PT1H
X-Robots-Tag:noindex
X-PUBLISHED-TTL:PT1H
BEGIN:VTIMEZONE
TZID:America/Los_Angeles
BEGIN:DAYLIGHT
TZOFFSETFROM:-0800
TZOFFSETTO:-0700
TZNAME:PDT
DTSTART:20230312T100000
END:DAYLIGHT
BEGIN:STANDARD
TZOFFSETFROM:-0700
TZOFFSETTO:-0800
TZNAME:PST
DTSTART:20231105T090000
END:STANDARD
BEGIN:DAYLIGHT
TZOFFSETFROM:-0800
TZOFFSETTO:-0700
TZNAME:PDT
DTSTART:20240310T100000
END:DAYLIGHT
BEGIN:STANDARD
TZOFFSETFROM:-0700
TZOFFSETTO:-0800
TZNAME:PST
DTSTART:20241103T090000
END:STANDARD
BEGIN:DAYLIGHT
TZOFFSETFROM:-0800
TZOFFSETTO:-0700
TZNAME:PDT
DTSTART:20250309T100000
END:DAYLIGHT
BEGIN:STANDARD
TZOFFSETFROM:-0700
TZOFFSETTO:-0800
TZNAME:PST
DTSTART:20251102T090000
END:STANDARD
END:VTIMEZONE
BEGIN:VEVENT
DTSTART;TZID=America/Los_Angeles:20240309T110000
DTEND;TZID=America/Los_Angeles:20240309T150000
DTSTAMP:20260421T182722
CREATED:20240207T173449Z
LAST-MODIFIED:20240304T142721Z
UID:10000740-1709982000-1709996400@negozee.com
SUMMARY:Mujeres Imparables [Miami]
DESCRIPTION:Nuestras increíbles “mujeres imparables”\, contadoras y profesionales de impuestos estarán el 9 de marzo en Miami en este increíble encuentro. 📊💼 \nPrepárate para catalizar tu potencial emprendedor y elevar tu desarrollo personal al próximo nivel! Únete a nosotros en la vibrante ciudad de Miami para el Encuentro de Emprendimiento y Superación Personal 2024\, un evento transformador que no solo te proporcionará conocimientos actualizados sobre estrategias fiscales\, sino que también te inspirará a expandir tu visión y conectar con líderes y pioneros que comparten tu ambición. \nEl evento se llevará a cabo el 09 de marzo de 2024\, a las 11 am Hora Este\, en el Club Towncenter Weston\, FL. Esta es tu oportunidad única de sumergirte en un ambiente donde las estrategias innovadoras y el asesoramiento experto de los profesionales de negozee y Zaitax Consulting te empoderarán para trascender tus límites. ¡Actúa ahora! Reserva tu espacio y comienza tu viaje hacia la excelencia y el éxito sin límites. ¡Recuerda\, las grandes oportunidades se construyen\, no esperan! \n¡Prepárate para la segunda edición de nuestro evento especial en honor al Día de la Mujer!  Este año\, celebramos a todas las mujeres imparables que han dejado una huella indeleble en el mundo.  \n Fecha: 09 de marzo 2024\n Hora: 11 am Hora Este\n Lugar: Club Towncenter Weston Fl
URL:https://negozee.com/event/mujeres-imparables-miami/
LOCATION:Club Towncenter Weston Fl\, FL\, 33326\, United States
ATTACH;FMTTYPE=image/png:https://wp-negozee-conent.s3.amazonaws.com/wp-content/uploads/2024/02/26091149/Mujeres_Imparables_Miami.png
ORGANIZER;CN="negozee":MAILTO:info@negozee.com
END:VEVENT
END:VCALENDAR