BEGIN:VCALENDAR
VERSION:2.0
PRODID:-//negozee - ECPv6.15.12.2//NONSGML v1.0//EN
CALSCALE:GREGORIAN
METHOD:PUBLISH
X-ORIGINAL-URL:https://negozee.com
X-WR-CALDESC:Events for negozee
REFRESH-INTERVAL;VALUE=DURATION:PT1H
X-Robots-Tag:noindex
X-PUBLISHED-TTL:PT1H
BEGIN:VTIMEZONE
TZID:America/New_York
BEGIN:DAYLIGHT
TZOFFSETFROM:-0500
TZOFFSETTO:-0400
TZNAME:EDT
DTSTART:20230312T070000
END:DAYLIGHT
BEGIN:STANDARD
TZOFFSETFROM:-0400
TZOFFSETTO:-0500
TZNAME:EST
DTSTART:20231105T060000
END:STANDARD
BEGIN:DAYLIGHT
TZOFFSETFROM:-0500
TZOFFSETTO:-0400
TZNAME:EDT
DTSTART:20240310T070000
END:DAYLIGHT
BEGIN:STANDARD
TZOFFSETFROM:-0400
TZOFFSETTO:-0500
TZNAME:EST
DTSTART:20241103T060000
END:STANDARD
BEGIN:DAYLIGHT
TZOFFSETFROM:-0500
TZOFFSETTO:-0400
TZNAME:EDT
DTSTART:20250309T070000
END:DAYLIGHT
BEGIN:STANDARD
TZOFFSETFROM:-0400
TZOFFSETTO:-0500
TZNAME:EST
DTSTART:20251102T060000
END:STANDARD
END:VTIMEZONE
BEGIN:VEVENT
DTSTART;TZID=America/New_York:20240302T150000
DTEND;TZID=America/New_York:20240302T160000
DTSTAMP:20260421T211221
CREATED:20240226T142603Z
LAST-MODIFIED:20240226T145727Z
UID:10000746-1709391600-1709395200@negozee.com
SUMMARY:¡Transforma Tu Pasión en Ganancia! [Zoom Webinar]
DESCRIPTION:🚀✨ ¡Inicia con Impacto y Despega Hacia el Éxito Fiscal! ✨🚀 \n\n👉 ¿Recién iniciado en el mundo de los impuestos? ¡Eso es una mina de oro! Aprende a usar tu fresca perspectiva para innovar y sobresalir en el mercado de taxes.\n👉  Desenmascara el arte de fijar precios que no solo reflejen el valor de tu trabajo\, sino que también te encaminen a alcanzar tus metas de ingresos. ¡Que tus tarifas hablen de la calidad que ofreces!\n👉 Domina habilidades indispensables y absorbe consejos prácticos que te equiparán para lanzar y escalar tu empresa de taxes con confianza. ¡Haz que tu negocio florezca desde su raíz!\n🌟 No permitas que otro minuto se desvanezca sin actuar hacia tu éxito en el sector fiscal. ¡Es tu hora de brillar!\n\n📅 Fecha: Marzo 2nd ⏰ Hora: 3:00pm EST 🔗 Lugar: Zoom Webinar \n✅ ¡Regístrate AHORA para nuestro Webinar GRATIS en Zoom y da el primer paso hacia la cima de tus metas financieras! \n📲 Haz clic AQUÍ para unirte a nosotros: 🔗 ¡Tu futuro en taxes te espera! ⬅️
URL:https://negozee.com/event/transforma-tu-pasion-en-ganancia-zoom-webinar/
CATEGORIES:Clase Virtual
ATTACH;FMTTYPE=image/jpeg:https://wp-negozee-conent.s3.amazonaws.com/wp-content/uploads/2024/02/26091228/%C2%A1Transforma-Tu-Pasion-en-Ganancia-Zoom-Webinar-1.jpg
END:VEVENT
END:VCALENDAR