BEGIN:VCALENDAR
VERSION:2.0
PRODID:-//negozee - ECPv6.15.12.2//NONSGML v1.0//EN
CALSCALE:GREGORIAN
METHOD:PUBLISH
X-ORIGINAL-URL:https://negozee.com
X-WR-CALDESC:Events for negozee
REFRESH-INTERVAL;VALUE=DURATION:PT1H
X-Robots-Tag:noindex
X-PUBLISHED-TTL:PT1H
BEGIN:VTIMEZONE
TZID:America/Los_Angeles
BEGIN:DAYLIGHT
TZOFFSETFROM:-0800
TZOFFSETTO:-0700
TZNAME:PDT
DTSTART:20230312T100000
END:DAYLIGHT
BEGIN:STANDARD
TZOFFSETFROM:-0700
TZOFFSETTO:-0800
TZNAME:PST
DTSTART:20231105T090000
END:STANDARD
BEGIN:DAYLIGHT
TZOFFSETFROM:-0800
TZOFFSETTO:-0700
TZNAME:PDT
DTSTART:20240310T100000
END:DAYLIGHT
BEGIN:STANDARD
TZOFFSETFROM:-0700
TZOFFSETTO:-0800
TZNAME:PST
DTSTART:20241103T090000
END:STANDARD
BEGIN:DAYLIGHT
TZOFFSETFROM:-0800
TZOFFSETTO:-0700
TZNAME:PDT
DTSTART:20250309T100000
END:DAYLIGHT
BEGIN:STANDARD
TZOFFSETFROM:-0700
TZOFFSETTO:-0800
TZNAME:PST
DTSTART:20251102T090000
END:STANDARD
END:VTIMEZONE
BEGIN:VEVENT
DTSTART;TZID=America/Los_Angeles:20240214T090000
DTEND;TZID=America/Los_Angeles:20240214T100000
DTSTAMP:20260421T182707
CREATED:20240108T215346Z
LAST-MODIFIED:20240209T165526Z
UID:10000731-1707901200-1707904800@negozee.com
SUMMARY:Expande tus Finanzas [zoom virtual]
DESCRIPTION:Esta serie es para los que buscan mejorar sus finazas personales. \nNuestra experta Vanessa Vasquez repasa estrategias de crecimiento y diciplina para ayudarte a alcanzar tus metas. \nHay 3 maneras para ingresar a este webinar:\n1. Haz clic aquí para registrarte a este webinar por $36. \n2. Inscríbete a la membresía de negozee por $28 al mes y recibe acceso. \n3. VIP Members Activos: ¿Ya eres member de negozee? Ingresa al zoom aquí \n………. \n\nAGENDA \nEl webinar comienza a las: \n9:00am PT – California\n12:00pm ET – New York \n……… \nMiércoles 14 de Febrero\n\n……………. \nHorario:  \nOnline Webinar de 1 hora en vivo por zoom \nCalifornia: 9:00 am PT \nColorado / Arizona: 10:00am MT \nTexas: 11:00am CT \nNew York / Florida: 12:00pm ET \nPuerto Rico: 1:00pm AT \n…………..
URL:https://negozee.com/event/expande-tus-finanzas/
CATEGORIES:Charla
ATTACH;FMTTYPE=image/png:https://wp-negozee-conent.s3.amazonaws.com/wp-content/uploads/2024/01/26091508/Expande-tus-Finanzas.png
ORGANIZER;CN="negozee":MAILTO:info@negozee.com
END:VEVENT
END:VCALENDAR