BEGIN:VCALENDAR
VERSION:2.0
PRODID:-//negozee - ECPv6.15.12.2//NONSGML v1.0//EN
CALSCALE:GREGORIAN
METHOD:PUBLISH
X-ORIGINAL-URL:https://negozee.com
X-WR-CALDESC:Events for negozee
REFRESH-INTERVAL;VALUE=DURATION:PT1H
X-Robots-Tag:noindex
X-PUBLISHED-TTL:PT1H
BEGIN:VTIMEZONE
TZID:America/Los_Angeles
BEGIN:DAYLIGHT
TZOFFSETFROM:-0800
TZOFFSETTO:-0700
TZNAME:PDT
DTSTART:20230312T100000
END:DAYLIGHT
BEGIN:STANDARD
TZOFFSETFROM:-0700
TZOFFSETTO:-0800
TZNAME:PST
DTSTART:20231105T090000
END:STANDARD
BEGIN:DAYLIGHT
TZOFFSETFROM:-0800
TZOFFSETTO:-0700
TZNAME:PDT
DTSTART:20240310T100000
END:DAYLIGHT
BEGIN:STANDARD
TZOFFSETFROM:-0700
TZOFFSETTO:-0800
TZNAME:PST
DTSTART:20241103T090000
END:STANDARD
BEGIN:DAYLIGHT
TZOFFSETFROM:-0800
TZOFFSETTO:-0700
TZNAME:PDT
DTSTART:20250309T100000
END:DAYLIGHT
BEGIN:STANDARD
TZOFFSETFROM:-0700
TZOFFSETTO:-0800
TZNAME:PST
DTSTART:20251102T090000
END:STANDARD
END:VTIMEZONE
BEGIN:VEVENT
DTSTART;TZID=America/Los_Angeles:20240111T093000
DTEND;TZID=America/Los_Angeles:20240111T163000
DTSTAMP:20260422T190344
CREATED:20230615T235127Z
LAST-MODIFIED:20240110T132540Z
UID:10000689-1704965400-1704990600@negozee.com
SUMMARY:2024 ¿Qué hay de nuevo? [Zoom Virtual]
DESCRIPTION:Hay 2 maneras para ingresar a este webinar:\n1. Haz clic aquí para registrarte a este webinar por $68. \n2. Inscríbete a la membresía de negozee por $28 al mes y recibe acceso. \n………………. \nVIP Members Activos\n¿Ya eres member de negozee? Ingresa al zoom aquí \n………. \nAcerca del webinar\n\nSi trabaja en los Estados Unidos esta clase es para ti. Esta clase le enseña todos los nuevos créditos fiscales y deducciones para negocios y familias. \nAprenda cómo minimizar sus impuestos y maximizar su dinero en 2024. \nAGENDA \nEl gran evento virtual comienza a las: \n9:30am PT – California\n12:30pm ET – New York \n……… \n\n9:30am PT – Bienvenidos & Intro \n9:40am PT – BOI – Beneficial Ownership Information \n10:10am PT – Nuevos requisitos 1099-K de $5\,000\nNuevos requisitos de 1099-NEC (10+ e-files) \n10:30am PT – WISP Data & Cyber Security \n11:00am – PT – IRS Online Tools \n11:40am PT – Tax Credits & Deductions (Child Tax Credit\, Tax Rates\, Earned Income Tax Credit) \n12:00pm PT – SECURE Act 2.0 – cambios al IRA\, ROTH\, 401(k) \n12:15pm PT – Employee Retention Tax Credit Audits \n12:30pm PT – Taxes para Extranjeros y Inversionistas – VISAS\, ITIN\, Inmigrantes \n12:50pm PT – Tax Office Setup and Tech \n1:15pm PT – Top 3 Tax Planning Strategies \n1:40pm PT – Tax Resolution \n2:00pm PT – Living Trusts & Estates \n2:15pm PT – Tax Pro Account – new features \n2:45pm PT – Cómo lanzar una Tax School en 2024 \n3:05pm PT – Tax Season Marketing \n3:30pm PT – Bank Product Update \n3:50pm PT – Responsabilidades de un ITIN Certifying Acceptance Agent (CAA) \n4:00pm PT – Capital Gains Tax \n4:15pm PT – Gracias \n……………. \nHorario:  \nOnline Webinar de 7 horas en vivo por zoom: jueves\, enero 11  \nCalifornia: 9:30 am – 4:30pm PT \nColorado / Arizona: 10:30am – 5:30pm MT \nTexas: 11:30am – 6:30pm CT \nNew York / Florida: 12:30pm – 7:30pm ET \nPuerto Rico: 1:30pm – 8:30pm AT \n………….. \n¿Cuánto cuesta este gran evento virtual?\n  \nHay 2 maneras para ingresar a este webinar:\n1. Haz clic aquí para registrarte a este webinar por $68. \n2. Inscríbete a la membresía de negozee por $28 al mes y recibe acceso. \n…………… \nVIP Members Activos\n¿Ya eres member de negozee? Ingresa al zoom aquí \n………. \nEvent Sponsors
URL:https://negozee.com/event/2024-que-hay-de-nuevo/
CATEGORIES:Clase Virtual,Webinar
ATTACH;FMTTYPE=image/png:https://wp-negozee-conent.s3.amazonaws.com/wp-content/uploads/2022/12/26093559/2023QueHayDeNuevo-ngzee.png
ORGANIZER;CN="negozee":MAILTO:info@negozee.com
END:VEVENT
END:VCALENDAR