BEGIN:VCALENDAR
VERSION:2.0
PRODID:-//negozee - ECPv6.15.12.2//NONSGML v1.0//EN
CALSCALE:GREGORIAN
METHOD:PUBLISH
X-WR-CALNAME:negozee
X-ORIGINAL-URL:https://negozee.com
X-WR-CALDESC:Events for negozee
REFRESH-INTERVAL;VALUE=DURATION:PT1H
X-Robots-Tag:noindex
X-PUBLISHED-TTL:PT1H
BEGIN:VTIMEZONE
TZID:America/Los_Angeles
BEGIN:DAYLIGHT
TZOFFSETFROM:-0800
TZOFFSETTO:-0700
TZNAME:PDT
DTSTART:20240310T100000
END:DAYLIGHT
BEGIN:STANDARD
TZOFFSETFROM:-0700
TZOFFSETTO:-0800
TZNAME:PST
DTSTART:20241103T090000
END:STANDARD
BEGIN:DAYLIGHT
TZOFFSETFROM:-0800
TZOFFSETTO:-0700
TZNAME:PDT
DTSTART:20250309T100000
END:DAYLIGHT
BEGIN:STANDARD
TZOFFSETFROM:-0700
TZOFFSETTO:-0800
TZNAME:PST
DTSTART:20251102T090000
END:STANDARD
BEGIN:DAYLIGHT
TZOFFSETFROM:-0800
TZOFFSETTO:-0700
TZNAME:PDT
DTSTART:20260308T100000
END:DAYLIGHT
BEGIN:STANDARD
TZOFFSETFROM:-0700
TZOFFSETTO:-0800
TZNAME:PST
DTSTART:20261101T090000
END:STANDARD
END:VTIMEZONE
BEGIN:VEVENT
DTSTART;TZID=America/Los_Angeles:20250124T120000
DTEND;TZID=America/Los_Angeles:20250124T130000
DTSTAMP:20260420T061303
CREATED:20250121T195503Z
LAST-MODIFIED:20250123T133508Z
UID:85103-1737720000-1737723600@negozee.com
SUMMARY:Zenwork Tax 1099
DESCRIPTION:Days Hours Minutes Seconds		\n						\n				\n				\n				\n							\n			\n		\n						\n				\n					\n				\n		\n					\n				\n				\n					Gestiona tu Formulario 1099 con Tax1099				\n				\n				\n				\n									Únete a nosotros para aprender cómo gestionar tu Formulario 1099 de manera rápida y sencilla con Tax1099. Cumplir con esta obligación a tiempo es esencial para reportar correctamente los ingresos obtenidos durante el año que no provienen de un empleador tradicional. 								\n				\n				\n				\n					Descripción				\n				\n		\n		\n				\n			\n	\n	\n	\n		\n				\n				\n									En este evento\, exploraremos cómo Tax1099 puede transformar la manera en que gestionas tus Formularios 1099. Aprenderás sobre las herramientas y características que ofrece esta plataforma para simplificar el proceso de presentación\, minimizar errores y asegurar el cumplimiento con las regulaciones fiscales. 								\n				\n				\n				\n				\n				\n					¡No pierdas esta oportunidad de cumplir con tus obligaciones fiscales de forma eficiente!				\n				\n				\n				\n									\n					\n						\n									Regístrate Aquí\n					\n					\n				\n								\n				\n				\n				\n					\n	\n		\n\n	\n	Add to calendar	\n		\n	\n\n		\n			\n									\n	Google Calendar\n\n									\n	iCalendar\n\n									\n	Outlook 365\n\n									\n	Outlook Live
URL:https://negozee.com/event/zenwork-tax-1099/
ATTACH;FMTTYPE=image/jpeg:https://wp-negozee-conent.s3.amazonaws.com/wp-content/uploads/2025/01/26084458/WhatsApp-Image-2025-01-21-at-15.38.51.jpeg
ORGANIZER;CN="negozee":MAILTO:info@negozee.com
END:VEVENT
END:VCALENDAR