BEGIN:VCALENDAR
VERSION:2.0
PRODID:-//negozee - ECPv6.15.12.2//NONSGML v1.0//EN
CALSCALE:GREGORIAN
METHOD:PUBLISH
X-WR-CALNAME:negozee
X-ORIGINAL-URL:https://negozee.com
X-WR-CALDESC:Events for negozee
REFRESH-INTERVAL;VALUE=DURATION:PT1H
X-Robots-Tag:noindex
X-PUBLISHED-TTL:PT1H
BEGIN:VTIMEZONE
TZID:America/Los_Angeles
BEGIN:DAYLIGHT
TZOFFSETFROM:-0800
TZOFFSETTO:-0700
TZNAME:PDT
DTSTART:20230312T100000
END:DAYLIGHT
BEGIN:STANDARD
TZOFFSETFROM:-0700
TZOFFSETTO:-0800
TZNAME:PST
DTSTART:20231105T090000
END:STANDARD
BEGIN:DAYLIGHT
TZOFFSETFROM:-0800
TZOFFSETTO:-0700
TZNAME:PDT
DTSTART:20240310T100000
END:DAYLIGHT
BEGIN:STANDARD
TZOFFSETFROM:-0700
TZOFFSETTO:-0800
TZNAME:PST
DTSTART:20241103T090000
END:STANDARD
BEGIN:DAYLIGHT
TZOFFSETFROM:-0800
TZOFFSETTO:-0700
TZNAME:PDT
DTSTART:20250309T100000
END:DAYLIGHT
BEGIN:STANDARD
TZOFFSETFROM:-0700
TZOFFSETTO:-0800
TZNAME:PST
DTSTART:20251102T090000
END:STANDARD
END:VTIMEZONE
BEGIN:VEVENT
DTSTART;TZID=America/Los_Angeles:20241017T160000
DTEND;TZID=America/Los_Angeles:20241017T170000
DTSTAMP:20260420T134507
CREATED:20241003T224134Z
LAST-MODIFIED:20241020T125559Z
UID:65801-1729180800-1729184400@negozee.com
SUMMARY:Ventas al 100% con Mentalidad Ganadora [Reaally webinar]
DESCRIPTION:Days Hours Minutes Seconds		\n						\n				\n				\n				\n							\n			\n		\n						\n				\n					\n				\n		\n					\n				\n				\n					Impulsa tus Ventas al 100% con una Mentalidad Ganadora				\n				\n				\n				\n							\n			\n		\n						\n				\n				\n				\n									Únete a nosotros para un webinar gratuito el Jueves 17 de Octubre a las 4:00 pm hora PT  Transforma tu enfoque de ventas adoptando una mentalidad ganadora. Aprende a establecer metas claras\, mantener alta motivación y conectar profundamente con tus clientes. Con técnicas efectivas y una actitud positiva\, podrás superar obstáculos y alcanzar el éxito en cada negociación. ¡Es hora de reprogramar tu mente y convertirte en un vendedor estrella! ¡Este webinar es perfecto para ti si: Eres nuevo en el mundo de las ventas y quieres comenzar con el pie derecho.Necesitas un repaso de los conceptos básicos que te llevarán al éxito.Deseas aprender estrategias efectivas para maximizar tus ingresos y cerrar más tratos.								\n				\n				\n				\n									\n					\n						\n									Regístrate\n					\n					\n				\n								\n				\n				\n				\n					\n	\n		\n\n	\n	Add to calendar	\n		\n	\n\n		\n			\n									\n	Google Calendar\n\n									\n	iCalendar\n\n									\n	Outlook 365\n\n									\n	Outlook Live\n\n							\n		\n\n		\n	\n\n				\n				\n				\n				\n					ReaallyWe help you start\, improve the performance of\, or outsource\, your sales team. Yes\, Reaally! We are a sales consultant agency co-founded by a multi-national sales VP who managed over 700 sales reps across different countries\, and an operations and business development expert with 20+ years of experience as a business owner.\nPuedes encontrar más información sobre Reaally en su sitio web: https://reaally.com/\n\n 				\n				\n				\n				\n					\n\n\n	\n	Responses\n\n		\n		 You must be logged in to post a comment.
URL:https://negozee.com/event/ventas-al-100-con-mentalidad-ganadora-reaally-webinar-3/
CATEGORIES:Clase Virtual,Webinar
ATTACH;FMTTYPE=image/png:https://wp-negozee-conent.s3.amazonaws.com/wp-content/uploads/2024/10/26085425/ventas-al-100-negozee-reaally-web_SoldOut.png
ORGANIZER;CN="negozee":MAILTO:info@negozee.com
END:VEVENT
END:VCALENDAR