BEGIN:VCALENDAR
VERSION:2.0
PRODID:-//negozee - ECPv6.15.12.2//NONSGML v1.0//EN
CALSCALE:GREGORIAN
METHOD:PUBLISH
X-WR-CALNAME:negozee
X-ORIGINAL-URL:https://negozee.com
X-WR-CALDESC:Events for negozee
REFRESH-INTERVAL;VALUE=DURATION:PT1H
X-Robots-Tag:noindex
X-PUBLISHED-TTL:PT1H
BEGIN:VTIMEZONE
TZID:America/Los_Angeles
BEGIN:DAYLIGHT
TZOFFSETFROM:-0800
TZOFFSETTO:-0700
TZNAME:PDT
DTSTART:20240310T100000
END:DAYLIGHT
BEGIN:STANDARD
TZOFFSETFROM:-0700
TZOFFSETTO:-0800
TZNAME:PST
DTSTART:20241103T090000
END:STANDARD
BEGIN:DAYLIGHT
TZOFFSETFROM:-0800
TZOFFSETTO:-0700
TZNAME:PDT
DTSTART:20250309T100000
END:DAYLIGHT
BEGIN:STANDARD
TZOFFSETFROM:-0700
TZOFFSETTO:-0800
TZNAME:PST
DTSTART:20251102T090000
END:STANDARD
BEGIN:DAYLIGHT
TZOFFSETFROM:-0800
TZOFFSETTO:-0700
TZNAME:PDT
DTSTART:20260308T100000
END:DAYLIGHT
BEGIN:STANDARD
TZOFFSETFROM:-0700
TZOFFSETTO:-0800
TZNAME:PST
DTSTART:20261101T090000
END:STANDARD
END:VTIMEZONE
BEGIN:VEVENT
DTSTART;TZID=America/Los_Angeles:20250108T113000
DTEND;TZID=America/Los_Angeles:20250108T130000
DTSTAMP:20260420T031436
CREATED:20250106T180922Z
LAST-MODIFIED:20250108T001348Z
UID:81306-1736335800-1736341200@negozee.com
SUMMARY:The Three Secrets to Building a Seven-Figure Tax Advisory Business
DESCRIPTION:Days Hours Minutes Seconds		\n						\n				\n				\n				\n							\n			\n		\n						\n				\n					\n				\n		\n					\n				\n				\n					The Three Secrets to Building a Seven-Figure Tax Advisory Business				\n				\n				\n				\n									¡Descubre los secretos mejor guardados para transformar tu negocio de asesoría fiscal en una máquina de ingresos de siete cifras! En este evento exclusivo\, David A. Pérez\, reconocido como el #1 Estratega Fiscal\, compartirá estrategias probadas que han permitido a muchos profesionales del sector alcanzar el éxito financiero.								\n				\n				\n				\n					Lo que Aprenderás:				\n				\n		\n		\n				\n			\n	\n	\n	\n		\n				\n				\n									 Estrategias Avanzadas: Conoce las técnicas que utilizan los mejores en la industria para maximizar sus ingresos y minimizar su carga fiscal.Networking de Alto Nivel: Conéctate con otros líderes del sector y construye relaciones que pueden catapultar tu negocio.Implementación Práctica: Lleva a casa un plan de acción claro y directo que podrás aplicar inmediatamente para ver resultados.								\n				\n				\n				\n		\n		\n				\n				\n							\n\n						\n				\n								\n			\n			\n						\n\n									\n						\n							¿Cuando?						\n					\n				\n									\n						Miércoles 8 de enero  \n11:30 AM (Pacific Time)\n1:30 PM (CST)					 \n				\n			\n			\n		\n						\n				\n				\n				\n				\n				\n					Presentado por:				\n				\n		\n		\n				\n				\n																														\n				\n				\n				\n					David A. Perez\, Mr. Economy				\n				\n				\n				\n									Conoce más en https://www.davidaperez.com/ 								\n				\n				\n				\n				\n				\n									\n					\n						\n									Regístrate Aquí\n					\n					\n				\n								\n				\n				\n				\n					\n	\n		\n\n	\n	Add to calendar	\n		\n	\n\n		\n			\n									\n	Google Calendar\n\n									\n	iCalendar\n\n									\n	Outlook 365\n\n									\n	Outlook Live\n\n							\n		\n\n		\n	\n\n				\n				\n				\n				\n					\n\n\n	\n	Responses\n\n		\n		 You must be logged in to post a comment.
URL:https://negozee.com/event/the-three-secrets-to-building-a-seven-figure-tax-advisory-business/
ATTACH;FMTTYPE=image/jpeg:https://wp-negozee-conent.s3.amazonaws.com/wp-content/uploads/2025/01/26084621/WhatsApp-Image-2025-01-07-at-09.55.08-3.jpeg
ORGANIZER;CN="negozee":MAILTO:info@negozee.com
END:VEVENT
END:VCALENDAR