BEGIN:VCALENDAR
VERSION:2.0
PRODID:-//negozee - ECPv6.15.12.2//NONSGML v1.0//EN
CALSCALE:GREGORIAN
METHOD:PUBLISH
X-WR-CALNAME:negozee
X-ORIGINAL-URL:https://negozee.com
X-WR-CALDESC:Events for negozee
REFRESH-INTERVAL;VALUE=DURATION:PT1H
X-Robots-Tag:noindex
X-PUBLISHED-TTL:PT1H
BEGIN:VTIMEZONE
TZID:America/Los_Angeles
BEGIN:DAYLIGHT
TZOFFSETFROM:-0800
TZOFFSETTO:-0700
TZNAME:PDT
DTSTART:20240310T100000
END:DAYLIGHT
BEGIN:STANDARD
TZOFFSETFROM:-0700
TZOFFSETTO:-0800
TZNAME:PST
DTSTART:20241103T090000
END:STANDARD
BEGIN:DAYLIGHT
TZOFFSETFROM:-0800
TZOFFSETTO:-0700
TZNAME:PDT
DTSTART:20250309T100000
END:DAYLIGHT
BEGIN:STANDARD
TZOFFSETFROM:-0700
TZOFFSETTO:-0800
TZNAME:PST
DTSTART:20251102T090000
END:STANDARD
BEGIN:DAYLIGHT
TZOFFSETFROM:-0800
TZOFFSETTO:-0700
TZNAME:PDT
DTSTART:20260308T100000
END:DAYLIGHT
BEGIN:STANDARD
TZOFFSETFROM:-0700
TZOFFSETTO:-0800
TZNAME:PST
DTSTART:20261101T090000
END:STANDARD
END:VTIMEZONE
BEGIN:VEVENT
DTSTART;TZID=America/Los_Angeles:20250319T130000
DTEND;TZID=America/Los_Angeles:20250319T140000
DTSTAMP:20260419T224345
CREATED:20250319T190843Z
LAST-MODIFIED:20250319T191818Z
UID:92959-1742389200-1742392800@negozee.com
SUMMARY:Tecnologia para negocios
DESCRIPTION:Descubre el Futuro de la Contabilidad con Inteligencia Artificial				\n				\n				\n				\n									Únete a nosotros para explorar cómo la Inteligencia Artificial está revolucionando la contabilidad. Aprende sobre la automatización de tareas\, análisis predictivo y optimización de procesos financieros. Descubre cómo la IA puede mejorar la eficiencia\, precisión y toma de decisiones en el sector contable. ¡No te pierdas esta oportunidad de conocer las tendencias y tecnologías que definirán el futuro de la contabilidad! 								\n				\n				\n				\n					\n	\n		\n\n	\n	Add to calendar	\n		\n	\n\n		\n			\n									\n	Google Calendar\n\n									\n	iCalendar\n\n									\n	Outlook 365\n\n									\n	Outlook Live\n\n							\n		\n\n		\n	\n\n				\n				\n				\n				\n									\n					\n						\n									¡Inscríbete Ahora!
URL:https://negozee.com/event/tecnologia-para-negocios/
ATTACH;FMTTYPE=image/png:https://wp-negozee-conent.s3.amazonaws.com/wp-content/uploads/2025/03/26084000/Tax-Tech-Connect-WEB-5.png
ORGANIZER;CN="negozee":MAILTO:info@negozee.com
END:VEVENT
END:VCALENDAR