BEGIN:VCALENDAR
VERSION:2.0
PRODID:-//negozee - ECPv6.15.12.2//NONSGML v1.0//EN
CALSCALE:GREGORIAN
METHOD:PUBLISH
X-WR-CALNAME:negozee
X-ORIGINAL-URL:https://negozee.com
X-WR-CALDESC:Events for negozee
REFRESH-INTERVAL;VALUE=DURATION:PT1H
X-Robots-Tag:noindex
X-PUBLISHED-TTL:PT1H
BEGIN:VTIMEZONE
TZID:America/Los_Angeles
BEGIN:DAYLIGHT
TZOFFSETFROM:-0800
TZOFFSETTO:-0700
TZNAME:PDT
DTSTART:20230312T100000
END:DAYLIGHT
BEGIN:STANDARD
TZOFFSETFROM:-0700
TZOFFSETTO:-0800
TZNAME:PST
DTSTART:20231105T090000
END:STANDARD
BEGIN:DAYLIGHT
TZOFFSETFROM:-0800
TZOFFSETTO:-0700
TZNAME:PDT
DTSTART:20240310T100000
END:DAYLIGHT
BEGIN:STANDARD
TZOFFSETFROM:-0700
TZOFFSETTO:-0800
TZNAME:PST
DTSTART:20241103T090000
END:STANDARD
BEGIN:DAYLIGHT
TZOFFSETFROM:-0800
TZOFFSETTO:-0700
TZNAME:PDT
DTSTART:20250309T100000
END:DAYLIGHT
BEGIN:STANDARD
TZOFFSETFROM:-0700
TZOFFSETTO:-0800
TZNAME:PST
DTSTART:20251102T090000
END:STANDARD
END:VTIMEZONE
BEGIN:VEVENT
DTSTART;TZID=America/Los_Angeles:20240918T163000
DTEND;TZID=America/Los_Angeles:20240918T173000
DTSTAMP:20260420T115402
CREATED:20240916T150818Z
LAST-MODIFIED:20241019T125516Z
UID:63854-1726677000-1726680600@negozee.com
SUMMARY:Tecnología para Negocios [zoom virtual]
DESCRIPTION:Days Hours Minutes Seconds		\n						\n				\n				\n				\n							\n			\n		\n						\n				\n					\n				\n		\n					\n				\n				\n					¡Potencia tu negocio al máximo con tecnología!				\n				\n				\n				\n							\n			\n		\n						\n				\n				\n				\n									¿Estás listo para llevar tu negocio al siguiente nivel? Asiste a nuestro webinar Tecnología para Negocios dirigido por negozee y descubre las mejores estrategias para aprovechar el poder de la tecnología y hacer crecer tu empresa de manera exponencial. En este webinar\, aprenderás: Cómo utilizar la tecnología para automatizar tareas\, mejorar la eficiencia y reducir costos.Las mejores herramientas tecnológicas para mejorar la comunicación y la colaboración con tu equipo.Estrategias para aprovechar el poder del marketing digital y llegar a más clientes.Cómo utilizar la tecnología para crear experiencias de cliente excepcionales y fidelizarlos.Fecha y hora: Miércoles 18 de Septiembre a las 4:30 pm hora PT No te pierdas esta oportunidad única de aprender cómo la tecnología puede ayudarte a hacer crecer tu negocio. 								\n				\n				\n				\n									\n					\n						\n									Regístrate\n					\n					\n				\n								\n				\n				\n				\n					\n	\n		\n\n	\n	Add to calendar	\n		\n	\n\n		\n			\n									\n	Google Calendar\n\n									\n	iCalendar\n\n									\n	Outlook 365\n\n									\n	Outlook Live\n\n							\n		\n\n		\n	\n\n				\n				\n				\n				\n					\n\n\n	\n	Responses\n\n		\n		 You must be logged in to post a comment.
URL:https://negozee.com/event/tecnologia-para-negocios-zoom-virtual-5/
CATEGORIES:Clase Virtual,Webinar
ATTACH;FMTTYPE=image/png:https://wp-negozee-conent.s3.amazonaws.com/wp-content/uploads/2024/09/26085434/Tecnologia-para-negocios-negozee_SoldOut.png
ORGANIZER;CN="negozee":MAILTO:info@negozee.com
END:VEVENT
END:VCALENDAR