BEGIN:VCALENDAR
VERSION:2.0
PRODID:-//negozee - ECPv6.15.12.2//NONSGML v1.0//EN
CALSCALE:GREGORIAN
METHOD:PUBLISH
X-WR-CALNAME:negozee
X-ORIGINAL-URL:https://negozee.com
X-WR-CALDESC:Events for negozee
REFRESH-INTERVAL;VALUE=DURATION:PT1H
X-Robots-Tag:noindex
X-PUBLISHED-TTL:PT1H
BEGIN:VTIMEZONE
TZID:America/Los_Angeles
BEGIN:DAYLIGHT
TZOFFSETFROM:-0800
TZOFFSETTO:-0700
TZNAME:PDT
DTSTART:20240310T100000
END:DAYLIGHT
BEGIN:STANDARD
TZOFFSETFROM:-0700
TZOFFSETTO:-0800
TZNAME:PST
DTSTART:20241103T090000
END:STANDARD
BEGIN:DAYLIGHT
TZOFFSETFROM:-0800
TZOFFSETTO:-0700
TZNAME:PDT
DTSTART:20250309T100000
END:DAYLIGHT
BEGIN:STANDARD
TZOFFSETFROM:-0700
TZOFFSETTO:-0800
TZNAME:PST
DTSTART:20251102T090000
END:STANDARD
BEGIN:DAYLIGHT
TZOFFSETFROM:-0800
TZOFFSETTO:-0700
TZNAME:PDT
DTSTART:20260308T100000
END:DAYLIGHT
BEGIN:STANDARD
TZOFFSETFROM:-0700
TZOFFSETTO:-0800
TZNAME:PST
DTSTART:20261101T090000
END:STANDARD
END:VTIMEZONE
BEGIN:VEVENT
DTSTART;TZID=America/Los_Angeles:20250227T160000
DTEND;TZID=America/Los_Angeles:20250227T170000
DTSTAMP:20260419T224522
CREATED:20250123T201209Z
LAST-MODIFIED:20250123T201728Z
UID:85886-1740672000-1740675600@negozee.com
SUMMARY:TaxTech Connect [TaxPro Tech] Feb
DESCRIPTION:Days Hours Minutes Seconds		\n						\n				\n				\n				\n							\n			\n		\n						\n				\n					\n				\n		\n					\n				\n				\n					¡Únete a nuestro webinar TaxTech Connect!				\n				\n				\n				\n									Aprovecha el poder de la tecnología para mejorar tu eficiencia\, productividad y rentabilidad.  En este webinar\, nuestros expertos en tecnología te guiarán a través de todo lo que necesitas saber para digitalizar tu oficina y aprovechar al máximo los beneficios de la computación en la nube. Aprenderás sobre: Los diferentes tipos de soluciones en la nube disponiblesCómo evaluar tus necesidades y elegir la solución adecuada para tu negocioLos pasos para implementar una solución en la nube de forma exitosaLos beneficios de digitalizar tu oficina\, como:Mayor eficiencia y productividadMejor colaboración y comunicaciónCostos reducidosMayor seguridad y protección de datosEscalabilidad para el crecimiento futuroNo te pierdas esta oportunidad de aprender de los expertos y descubrir cómo la tecnología en la nube puede transformar tu oficina. 								\n				\n				\n				\n									\n					\n						\n									Regístrate\n					\n					\n				\n								\n				\n				\n				\n					\n	\n		\n\n	\n	Add to calendar	\n		\n	\n\n		\n			\n									\n	Google Calendar\n\n									\n	iCalendar\n\n									\n	Outlook 365\n\n									\n	Outlook Live\n\n							\n		\n\n		\n	\n\n				\n				\n					\n				\n		\n					\n				\n				\n							\n			\n		\n						\n				\n				\n				\n					TaxPro Tech ServicesTaxPro Tech es una empresa que ofrece soluciones tecnológicas completas para profesionales de impuestos. Tienen más de 20 años de experiencia y ofrecen soporte para Drake Software\, servicios de oficina e infraestructura. También ofrecen una consulta gratuita y soporte al cliente 24/7.\n\nPuedes encontrar más información sobre TaxPro Tech en su sitio web: www.taxprotechservices.com
URL:https://negozee.com/event/taxpro-tech-feb/
CATEGORIES:Clase Virtual,Webinar
ATTACH;FMTTYPE=image/jpeg:https://wp-negozee-conent.s3.amazonaws.com/wp-content/uploads/2025/01/26084441/Tax-Tech-Connect-WEB.jpg
ORGANIZER;CN="negozee":MAILTO:info@negozee.com
END:VEVENT
END:VCALENDAR