BEGIN:VCALENDAR
VERSION:2.0
PRODID:-//negozee - ECPv6.15.12.2//NONSGML v1.0//EN
CALSCALE:GREGORIAN
METHOD:PUBLISH
X-WR-CALNAME:negozee
X-ORIGINAL-URL:https://negozee.com
X-WR-CALDESC:Events for negozee
REFRESH-INTERVAL;VALUE=DURATION:PT1H
X-Robots-Tag:noindex
X-PUBLISHED-TTL:PT1H
BEGIN:VTIMEZONE
TZID:America/Los_Angeles
BEGIN:DAYLIGHT
TZOFFSETFROM:-0800
TZOFFSETTO:-0700
TZNAME:PDT
DTSTART:20240310T100000
END:DAYLIGHT
BEGIN:STANDARD
TZOFFSETFROM:-0700
TZOFFSETTO:-0800
TZNAME:PST
DTSTART:20241103T090000
END:STANDARD
BEGIN:DAYLIGHT
TZOFFSETFROM:-0800
TZOFFSETTO:-0700
TZNAME:PDT
DTSTART:20250309T100000
END:DAYLIGHT
BEGIN:STANDARD
TZOFFSETFROM:-0700
TZOFFSETTO:-0800
TZNAME:PST
DTSTART:20251102T090000
END:STANDARD
BEGIN:DAYLIGHT
TZOFFSETFROM:-0800
TZOFFSETTO:-0700
TZNAME:PDT
DTSTART:20260308T100000
END:DAYLIGHT
BEGIN:STANDARD
TZOFFSETFROM:-0700
TZOFFSETTO:-0800
TZNAME:PST
DTSTART:20261101T090000
END:STANDARD
END:VTIMEZONE
BEGIN:VEVENT
DTSTART;TZID=America/Los_Angeles:20250709T090000
DTEND;TZID=America/Los_Angeles:20250709T150000
DTSTAMP:20260419T115911
CREATED:20250703T195740Z
LAST-MODIFIED:20250709T131949Z
UID:901775-1752051600-1752073200@negozee.com
SUMMARY:QuickBooks Training - ENTRENAMIENTO VIRTUAL
DESCRIPTION:Regístrate\n					\n					\n				\n								\n				\n				\n				\n					QUICKBOOKS TRAINING\n				\n				\n				\n				\n							\n			 Days Hours Minutes Seconds		\n						\n				\n				\n				\n									El QuickBooks Training es un entrenamiento intensivo diseñado para contadores\, empresarios y profesionales administrativos que desean ir más allá del uso básico de QuickBooks. Aquí no solo aprenderás a registrar transacciones\, sino a usar esta herramienta como una plataforma de gestión integral para tu negocio.  Te enseñaremos a automatizar procesos clave\, estructurar tu operación de forma eficiente\, interpretar datos financieros con enfoque estratégico y tomar decisiones basadas en información real y actualizada.  Es una experiencia 100% práctica que transforma la forma en que diriges tu negocio\, dándote control\, claridad y capacidad de escalar con orden. 								\n				\n		\n				\n				\n					Miércoles 9 de Julio del 2025				\n				\n				\n				\n									⏰ 9:00 AM hora PDT⏰ 11:00 AM hora CT⏰ 12:00 PM hora ET								\n				\n				\n				\n				\n					\n	\n		\n\n	\n	Add to calendar	\n		\n	\n\n		\n			\n									\n	Google Calendar\n\n									\n	iCalendar\n\n									\n	Outlook 365\n\n									\n	Outlook Live\n\n							\n		\n\n		\n	\n\n				\n				\n		\n		\n					\n				\n				\n					Hay 2 maneras para registrarte al evento:				\n				\n				\n				\n									1.  Sign in y regístrarte por $49 en Tickets 2. Inscríbete a la membresía de negozee por $32 al mes y recibe acceso. 								\n				\n					\n				\n		\n				\n				\n					\n	\n\n		\n		\n		\n\n		\n\n\n		\n\n\n\n	Tickets\n\n		\n	\n	\n		The numbers below include tickets for this event already in your cart. Clicking "Get Tickets" will allow you to edit any existing attendee information as well as change ticket quantities.	\n\n\n		\n		\n		\n	\n		Tickets are no longer available	\n\n\n		\n	\n	\n\n	\n	\n\n	\n	\n\n\n\n			\n\n	\n\n\n				\n				\n				\n				\n					\n				\n		\n					\n				\n				\n					\n\n\n	\n	Responses\n\n		\n		 You must be logged in to post a comment.
URL:https://negozee.com/event/quickbooks-training-virtual-july2025/
CATEGORIES:Talleres de Negocio,Webinar
ATTACH;FMTTYPE=image/png:https://wp-negozee-conent.s3.amazonaws.com/wp-content/uploads/2025/07/26082326/Banner-1-1.png
ORGANIZER;CN="negozee":MAILTO:info@negozee.com
END:VEVENT
END:VCALENDAR