BEGIN:VCALENDAR
VERSION:2.0
PRODID:-//negozee - ECPv6.15.12.2//NONSGML v1.0//EN
CALSCALE:GREGORIAN
METHOD:PUBLISH
X-WR-CALNAME:negozee
X-ORIGINAL-URL:https://negozee.com
X-WR-CALDESC:Events for negozee
REFRESH-INTERVAL;VALUE=DURATION:PT1H
X-Robots-Tag:noindex
X-PUBLISHED-TTL:PT1H
BEGIN:VTIMEZONE
TZID:America/Los_Angeles
BEGIN:DAYLIGHT
TZOFFSETFROM:-0800
TZOFFSETTO:-0700
TZNAME:PDT
DTSTART:20230312T100000
END:DAYLIGHT
BEGIN:STANDARD
TZOFFSETFROM:-0700
TZOFFSETTO:-0800
TZNAME:PST
DTSTART:20231105T090000
END:STANDARD
BEGIN:DAYLIGHT
TZOFFSETFROM:-0800
TZOFFSETTO:-0700
TZNAME:PDT
DTSTART:20240310T100000
END:DAYLIGHT
BEGIN:STANDARD
TZOFFSETFROM:-0700
TZOFFSETTO:-0800
TZNAME:PST
DTSTART:20241103T090000
END:STANDARD
BEGIN:DAYLIGHT
TZOFFSETFROM:-0800
TZOFFSETTO:-0700
TZNAME:PDT
DTSTART:20250309T100000
END:DAYLIGHT
BEGIN:STANDARD
TZOFFSETFROM:-0700
TZOFFSETTO:-0800
TZNAME:PST
DTSTART:20251102T090000
END:STANDARD
END:VTIMEZONE
BEGIN:VEVENT
DTSTART;TZID=America/Los_Angeles:20241217T143000
DTEND;TZID=America/Los_Angeles:20241217T153000
DTSTAMP:20260420T061300
CREATED:20241216T160956Z
LAST-MODIFIED:20241217T195710Z
UID:77571-1734445800-1734449400@negozee.com
SUMMARY:Practice Management with TaxDome (2:30 pm ET)
DESCRIPTION:Days Hours Minutes Seconds		\n						\n				\n				\n				\n							\n			\n		\n						\n				\n					\n				\n		\n					\n				\n				\n									\n				\n					\n				\n		\n					\n				\n				\n					¡Aumenta la eficiencia de tu despacho con TaxDome!				\n				\n				\n				\n							\n			\n		\n						\n				\n				\n				\n									¿Estás cansado de perder tiempo en tareas administrativas? ¿Quieres mejorar la eficiencia y productividad de tu equipo? ¡Tenemos la solución perfecta para ti! Te invitamos a nuestro webinar gratuito en donde descubrirás cómo TaxDome puede transformar la gestión de tu despacho. ¿Qué aprenderás? Automatización de procesos: Descubre cómo automatizar tareas repetitivas como la generación de facturas\, el seguimiento de pagos y la gestión de documentos para ahorrar tiempo y reducir errores.Gestión de clientes: Aprende a centralizar toda la información de tus clientes en un solo lugar\, mejorar la comunicación y ofrecer un servicio más personalizado.Colaboración en equipo: Descubre cómo mejorar la colaboración entre los miembros de tu equipo\, asignar tareas\, realizar un seguimiento del progreso y tomar decisiones más informadas.Integraciones con otras herramientas: Aprende cómo integrar TaxDome con otras herramientas que ya utilizas\, como programas de contabilidad\, plataformas de firma electrónica y más.¡Ahorra tiempo y mejora tu productividad! Regístrate ahora para nuestro webinar gratuito el martes 17 de diciembre a las 2:30 PM ET. 								\n				\n				\n				\n									\n					\n						\n									Regístrate\n					\n					\n				\n								\n				\n				\n				\n					\n	\n		\n\n	\n	Add to calendar	\n		\n	\n\n		\n			\n									\n	Google Calendar\n\n									\n	iCalendar\n\n									\n	Outlook 365\n\n									\n	Outlook Live\n\n							\n		\n\n		\n	\n\n				\n				\n				\n				\n					TaxDome\nTaxDome es un software de gestión de despachos profesionales para empresas de impuestos\, contabilidad y teneduría de libros. Ofrece una variedad de funciones\, incluyendo la gestión del tiempo y la facturación\, la automatización de los flujos de trabajo\, la gestión de equipos y clientes\, y el almacenamiento de documentos. TaxDome también se integra con una variedad de programas de impuestos y proveedores de pagos.\nPuedes encontrar más información sobre TaxDome en su sitio web: taxdome.com/en-int\n\n 				\n				\n				\n				\n					\n\n\n	\n	Responses\n\n		\n		 You must be logged in to post a comment.
URL:https://negozee.com/event/practice-management-with-taxdome-dec/
CATEGORIES:Clase Virtual,Webinar
ATTACH;FMTTYPE=image/png:https://wp-negozee-conent.s3.amazonaws.com/wp-content/uploads/2024/12/26084837/Practice-Managment-with-TaxDome.png
ORGANIZER;CN="negozee":MAILTO:info@negozee.com
END:VEVENT
END:VCALENDAR