BEGIN:VCALENDAR
VERSION:2.0
PRODID:-//negozee - ECPv6.15.12.2//NONSGML v1.0//EN
CALSCALE:GREGORIAN
METHOD:PUBLISH
X-WR-CALNAME:negozee
X-ORIGINAL-URL:https://negozee.com
X-WR-CALDESC:Events for negozee
REFRESH-INTERVAL;VALUE=DURATION:PT1H
X-Robots-Tag:noindex
X-PUBLISHED-TTL:PT1H
BEGIN:VTIMEZONE
TZID:America/Los_Angeles
BEGIN:DAYLIGHT
TZOFFSETFROM:-0800
TZOFFSETTO:-0700
TZNAME:PDT
DTSTART:20230312T100000
END:DAYLIGHT
BEGIN:STANDARD
TZOFFSETFROM:-0700
TZOFFSETTO:-0800
TZNAME:PST
DTSTART:20231105T090000
END:STANDARD
BEGIN:DAYLIGHT
TZOFFSETFROM:-0800
TZOFFSETTO:-0700
TZNAME:PDT
DTSTART:20240310T100000
END:DAYLIGHT
BEGIN:STANDARD
TZOFFSETFROM:-0700
TZOFFSETTO:-0800
TZNAME:PST
DTSTART:20241103T090000
END:STANDARD
BEGIN:DAYLIGHT
TZOFFSETFROM:-0800
TZOFFSETTO:-0700
TZNAME:PDT
DTSTART:20250309T100000
END:DAYLIGHT
BEGIN:STANDARD
TZOFFSETFROM:-0700
TZOFFSETTO:-0800
TZNAME:PST
DTSTART:20251102T090000
END:STANDARD
END:VTIMEZONE
BEGIN:VEVENT
DTSTART;TZID=America/Los_Angeles:20241001T151500
DTEND;TZID=America/Los_Angeles:20241001T163000
DTSTAMP:20260420T121212
CREATED:20241004T142407Z
LAST-MODIFIED:20241025T221603Z
UID:65854-1727795700-1727800200@negozee.com
SUMMARY:Life Insurance Investments [Money Concepts]
DESCRIPTION:Days Hours Minutes Seconds		\n						\n				\n				\n				\n							\n			\n		\n						\n				\n					\n				\n		\n				\n				\n					Life Insurance Investments				\n				\n				\n				\n							\n			\n		\n						\n				\n				\n				\n									Nos complace anunciar el Life Insurance Investments\, que será el 30 de octubre de 2024 a las 3:15 PM CT. Al asistir\, no solo ampliarás tu comprensión de Inversiones en seguros de vida\, sino que también tendrás la oportunidad de conectar con expertos de la industria y personas con ideas afines. No te pierdas esta ocasión excepcional. 								\n				\n				\n				\n					\n	\n		\n\n	\n	Add to calendar	\n		\n	\n\n		\n			\n									\n	Google Calendar\n\n									\n	iCalendar\n\n									\n	Outlook 365\n\n									\n	Outlook Live\n\n							\n		\n\n		\n	\n\n				\n				\n				\n				\n					Money ConceptsWe focus on providing the resources to support the needs and objectives of the clients we serve. It begins and ends with our Committed Benevolent Interest in others. Money Concepts Financial Services Center is committed to serving our clients and working as their Personal Wealth Coach.\n\nOur holistic approach goes well beyond a financial product or even the traditional financial plan. By building an ongoing relationship\, we become a wealth mentor and your personal CFO to provide guidance\, coordination and oversight on an on-going basis.\n\nWhether you are just starting out\, midlife or approaching retirement\, planning is vital to your success. As your Personal Wealth Coach\, our process provides professional financial solutions\, assuring you of the widest diversity of opportunities to achieve your financial objectives. 				\n				\n				\n				\n					\n\n\n	\n	Responses\n\n		\n		 You must be logged in to post a comment.
URL:https://negozee.com/event/life-insurance-investments-money-concepts/
CATEGORIES:Clase Virtual,Webinar
ATTACH;FMTTYPE=image/png:https://wp-negozee-conent.s3.amazonaws.com/wp-content/uploads/2024/10/26085609/Impuestos-Basicos-negozee-all-tax-solution-THUMBNAIL.png
ORGANIZER;CN="negozee":MAILTO:info@negozee.com
END:VEVENT
END:VCALENDAR