BEGIN:VCALENDAR
VERSION:2.0
PRODID:-//negozee - ECPv6.15.12.2//NONSGML v1.0//EN
CALSCALE:GREGORIAN
METHOD:PUBLISH
X-WR-CALNAME:negozee
X-ORIGINAL-URL:https://negozee.com
X-WR-CALDESC:Events for negozee
REFRESH-INTERVAL;VALUE=DURATION:PT1H
X-Robots-Tag:noindex
X-PUBLISHED-TTL:PT1H
BEGIN:VTIMEZONE
TZID:America/Los_Angeles
BEGIN:DAYLIGHT
TZOFFSETFROM:-0800
TZOFFSETTO:-0700
TZNAME:PDT
DTSTART:20230312T100000
END:DAYLIGHT
BEGIN:STANDARD
TZOFFSETFROM:-0700
TZOFFSETTO:-0800
TZNAME:PST
DTSTART:20231105T090000
END:STANDARD
BEGIN:DAYLIGHT
TZOFFSETFROM:-0800
TZOFFSETTO:-0700
TZNAME:PDT
DTSTART:20240310T100000
END:DAYLIGHT
BEGIN:STANDARD
TZOFFSETFROM:-0700
TZOFFSETTO:-0800
TZNAME:PST
DTSTART:20241103T090000
END:STANDARD
BEGIN:DAYLIGHT
TZOFFSETFROM:-0800
TZOFFSETTO:-0700
TZNAME:PDT
DTSTART:20250309T100000
END:DAYLIGHT
BEGIN:STANDARD
TZOFFSETFROM:-0700
TZOFFSETTO:-0800
TZNAME:PST
DTSTART:20251102T090000
END:STANDARD
END:VTIMEZONE
BEGIN:VEVENT
DTSTART;TZID=America/Los_Angeles:20240923T160000
DTEND;TZID=America/Los_Angeles:20240923T170000
DTSTAMP:20260420T115956
CREATED:20240919T191614Z
LAST-MODIFIED:20241019T131322Z
UID:64030-1727107200-1727110800@negozee.com
SUMMARY:Inversiones y Capital: Maximiza tu riqueza
DESCRIPTION:Days Hours Minutes Seconds		\n						\n				\n				\n				\n							\n			\n		\n						\n				\n					\n				\n		\n					\n				\n				\n					¡Conoce los secretos para maximizar tu riqueza!				\n				\n				\n				\n							\n			\n		\n						\n				\n				\n				\n									¿Siempre has querido saber cómo hacer que el dinero trabaje para tí? Únete a nosotros para una serie de webinars donde expertos en Wealth Management te explicarán las estrategias que usan los millonarios para hacer que su fortuna se múltiplique. Aprenderás sobre vehículos de inversión\, protección de activos y capital inteligente a tu alcance. \n¡Este webinar es perfecto para ti si: \n\nAdquirir conocimientos expertos: Aprende de los gestores de patrimonio más confiables.\nDescubrir nuevas oportunidades de inversión: Amplía tus horizontes financieros.\nTomar el control de tu futuro: Construye un patrimonio sólido.\n								\n				\n				\n				\n									\n					\n						\n									Regístrate\n					\n					\n				\n								\n				\n				\n				\n					\n	\n		\n\n	\n	Add to calendar	\n		\n	\n\n		\n			\n									\n	Google Calendar\n\n									\n	iCalendar\n\n									\n	Outlook 365\n\n									\n	Outlook Live\n\n							\n		\n\n		\n	\n\n				\n				\n				\n				\n					Janney Montgomery Scottes una firma de servicios financieros con sede en Filadelfia\, Pensilvania. Ofrece una amplia gama de servicios financieros\, incluyendo gestión de patrimonios\, asesoría de inversiones\, corretaje y planificación para el retiro. La firma tiene una larga trayectoria que se remonta a 1832 y es conocida por su compromiso de brindar un servicio personalizado y construir relaciones sólidas con sus clientes.\n\n\nPuedes encontrar más información sobre Janney en su sitio web: https://www.janney.com//\n\n 				\n				\n				\n				\n					\n\n\n	\n	Responses\n\n		\n		 You must be logged in to post a comment.
URL:https://negozee.com/event/inversiones-y-capital-maximiza-tu-riqueza/
CATEGORIES:Clase Virtual,Webinar
ATTACH;FMTTYPE=image/png:https://wp-negozee-conent.s3.amazonaws.com/wp-content/uploads/2024/09/26085432/Inversiones-y-Capital-Janney-y-negozee-1_SoldOut.png
ORGANIZER;CN="negozee":MAILTO:info@negozee.com
END:VEVENT
END:VCALENDAR