BEGIN:VCALENDAR
VERSION:2.0
PRODID:-//negozee - ECPv6.15.12.2//NONSGML v1.0//EN
CALSCALE:GREGORIAN
METHOD:PUBLISH
X-WR-CALNAME:negozee
X-ORIGINAL-URL:https://negozee.com
X-WR-CALDESC:Events for negozee
REFRESH-INTERVAL;VALUE=DURATION:PT1H
X-Robots-Tag:noindex
X-PUBLISHED-TTL:PT1H
BEGIN:VTIMEZONE
TZID:America/Los_Angeles
BEGIN:DAYLIGHT
TZOFFSETFROM:-0800
TZOFFSETTO:-0700
TZNAME:PDT
DTSTART:20230312T100000
END:DAYLIGHT
BEGIN:STANDARD
TZOFFSETFROM:-0700
TZOFFSETTO:-0800
TZNAME:PST
DTSTART:20231105T090000
END:STANDARD
BEGIN:DAYLIGHT
TZOFFSETFROM:-0800
TZOFFSETTO:-0700
TZNAME:PDT
DTSTART:20240310T100000
END:DAYLIGHT
BEGIN:STANDARD
TZOFFSETFROM:-0700
TZOFFSETTO:-0800
TZNAME:PST
DTSTART:20241103T090000
END:STANDARD
BEGIN:DAYLIGHT
TZOFFSETFROM:-0800
TZOFFSETTO:-0700
TZNAME:PDT
DTSTART:20250309T100000
END:DAYLIGHT
BEGIN:STANDARD
TZOFFSETFROM:-0700
TZOFFSETTO:-0800
TZNAME:PST
DTSTART:20251102T090000
END:STANDARD
END:VTIMEZONE
BEGIN:VEVENT
DTSTART;TZID=America/Los_Angeles:20241118T080000
DTEND;TZID=America/Los_Angeles:20241119T170000
DTSTAMP:20260420T092457
CREATED:20241022T004842Z
LAST-MODIFIED:20241031T153856Z
UID:67795-1731916800-1732035600@negozee.com
SUMMARY:HAPS Annual Conference 2024
DESCRIPTION:Days Hours Minutes Seconds		\n						\n				\n				\n				\n							\n			\n		\n						\n				\n					\n				\n		\n					\n				\n				\n					HAPS Annual Conference 2024				\n				\n				\n				\n									Ven y únete a nosotros para disfrutar de una experiencia única. Será un día lleno de actividades\, sorpresas y gran compañía.								\n				\n				\n				\n					Los temas que se abordaran por días serán los siguientes: 				\n				\n		\n		\n				\n			\n	\n	\n	\n		\n				\n				\n					Día 1				\n				\n				\n				\n									Tax implications of Family DramaClean Vehicle and Solar CreditsAirbnb: Tax Reporting and StrategyTax Stuff you thought you knew								\n				\n				\n		\n				\n			\n	\n	\n	\n	\n		\n				\n				\n					Día 2				\n				\n				\n				\n									ITIN\, CAA by IRSSch CA y 540NRStrategies for Success in an EITC/CTC AuditLetters from IRS. CP2000 and moreFirst time penalty Abatement &Reasonable CauseDepreciación Workshop (Español)								\n				\n				\n				\n		\n		\n				\n				\n							\n\n						\n				\n								\n			\n			\n						\n\n									\n						\n							¿Cuando?						\n					\n				\n									\n						Lunes 18 de noviembre del 2024 8:00 AM – 5:00 PM (Pacific Time)\n\nMartes 19 de noviembre del 2024 8:00 AM – 5:00 PM (Pacific Time)					 \n				\n			\n			\n		\n						\n				\n				\n				\n							\n\n						\n				\n								\n			\n			\n						\n\n									\n						\n							¿Donde?​						\n					\n				\n									\n						Handlery hotel San Diego 950 hotel circle north\, san diego\, CA 92108					 \n				\n			\n			\n		\n						\n				\n				\n		\n				\n				\n							\n			\n		\n						\n				\n				\n				\n				\n				\n					Presentado por:				\n				\n		\n		\n				\n				\n																														\n				\n				\n				\n					Ryan Reichert (CFP®\, EA)				\n				\n				\n				\n									Business Owner & Instructor at Brass Tax Presentations 								\n				\n				\n		\n				\n				\n																														\n				\n				\n				\n					Jose Jesus Gutierrez EA				\n				\n				\n				\n									Contador/Propietario de JG Professional Accountants\, Co 								\n				\n				\n		\n				\n				\n																														\n				\n				\n				\n					Claudia Ignacio\, Esq				\n				\n				\n				\n									U.S. International and U.S. Tax Attorney 								\n				\n				\n		\n				\n				\n																														\n				\n				\n				\n					Antonio Nava EA				\n				\n				\n				\n									Founder\, EA Tax Expert Trainer\, Speaker & Mentor 								\n				\n				\n				\n				\n				\n									\n					\n						\n									Regístrate Aquí\n					\n					\n				\n								\n				\n				\n				\n					\n	\n		\n\n	\n	Add to calendar	\n		\n	\n\n		\n			\n									\n	Google Calendar\n\n									\n	iCalendar\n\n									\n	Outlook 365\n\n									\n	Outlook Live\n\n							\n		\n\n		\n	\n\n				\n				\n					\n				\n		\n					\n				\n				\n							\n			\n		\n						\n				\n				\n				\n					Hispanic Association of Professional ServicesEstablished as a non-profit association in 1995\, Hispanic Association of Professional Services was created out of the need for education and interpretation of the Income Tax & Immigration guidelines in the Latino community.
URL:https://negozee.com/event/haps-annual-conference-2024/
CATEGORIES:Clase Virtual,Webinar
ATTACH;FMTTYPE=image/png:https://wp-negozee-conent.s3.amazonaws.com/wp-content/uploads/2024/10/26085328/Webinars-WEB-1-2.png
ORGANIZER;CN="negozee":MAILTO:info@negozee.com
END:VEVENT
END:VCALENDAR