BEGIN:VCALENDAR
VERSION:2.0
PRODID:-//negozee - ECPv6.15.12.2//NONSGML v1.0//EN
CALSCALE:GREGORIAN
METHOD:PUBLISH
X-WR-CALNAME:negozee
X-ORIGINAL-URL:https://negozee.com
X-WR-CALDESC:Events for negozee
REFRESH-INTERVAL;VALUE=DURATION:PT1H
X-Robots-Tag:noindex
X-PUBLISHED-TTL:PT1H
BEGIN:VTIMEZONE
TZID:America/Los_Angeles
BEGIN:DAYLIGHT
TZOFFSETFROM:-0800
TZOFFSETTO:-0700
TZNAME:PDT
DTSTART:20240310T100000
END:DAYLIGHT
BEGIN:STANDARD
TZOFFSETFROM:-0700
TZOFFSETTO:-0800
TZNAME:PST
DTSTART:20241103T090000
END:STANDARD
BEGIN:DAYLIGHT
TZOFFSETFROM:-0800
TZOFFSETTO:-0700
TZNAME:PDT
DTSTART:20250309T100000
END:DAYLIGHT
BEGIN:STANDARD
TZOFFSETFROM:-0700
TZOFFSETTO:-0800
TZNAME:PST
DTSTART:20251102T090000
END:STANDARD
BEGIN:DAYLIGHT
TZOFFSETFROM:-0800
TZOFFSETTO:-0700
TZNAME:PDT
DTSTART:20260308T100000
END:DAYLIGHT
BEGIN:STANDARD
TZOFFSETFROM:-0700
TZOFFSETTO:-0800
TZNAME:PST
DTSTART:20261101T090000
END:STANDARD
END:VTIMEZONE
BEGIN:VEVENT
DTSTART;TZID=America/Los_Angeles:20250519T160000
DTEND;TZID=America/Los_Angeles:20250519T170000
DTSTAMP:20260419T162727
CREATED:20250422T162352Z
LAST-MODIFIED:20250519T142529Z
UID:96440-1747670400-1747674000@negozee.com
SUMMARY:Fundamentos de Contabilidad May 2025
DESCRIPTION:Days Hours Minutes Seconds		\n						\n				\n				\n				\n							\n			\n		\n						\n				\n					\n				\n		\n					\n				\n				\n					¡Únete a Zailili Tovar en su webinar "Contabilidad básica para NO contadores".				\n				\n				\n				\n							\n			\n		\n						\n				\n				\n				\n									Descubre la importancia del capital o equity en la contabilidad y cómo su correcta gestión puede marcar la diferencia al momento de preparar tus impuestos. En este espacio\, te explicaremos de manera sencilla qué es el equity\, cómo se calcula y por qué es fundamental para reflejar la salud financiera de tu negocio. Aprende a identificar tu patrimonio neto\, optimiza tu declaración fiscal y toma decisiones informadas para el crecimiento sostenible de tu empresa. ¡Prepárate para llevar tu contabilidad y tus impuestos al siguiente nivel! Fecha y hora: Lunes 19 de Mayo a las 4:00 pm hora PDT   								\n				\n					\n				\n		\n					\n				\n				\n							\n			\n		\n						\n				\n					\n				\n		\n					\n		\n				\n				\n					Hay 2 maneras para registrarte al evento:				\n				\n				\n				\n									1.  Sign in y regístrarte por $36 en Tickets 2. Inscríbete a la membresía de negozee por $32 al mes y recibe acceso. 								\n				\n		\n				\n				\n					\n	\n		\n\n	\n	Add to calendar	\n		\n	\n\n		\n			\n									\n	Google Calendar\n\n									\n	iCalendar\n\n									\n	Outlook 365\n\n									\n	Outlook Live\n\n							\n		\n\n		\n	\n\n				\n				\n				\n				\n				\n				\n							\n			\n		\n						\n				\n		\n				\n				\n					\n	\n\n		\n		\n		\n\n		\n\n\n		\n\n\n\n	Tickets\n\n		\n	\n	\n		The numbers below include tickets for this event already in your cart. Clicking "Get Tickets" will allow you to edit any existing attendee information as well as change ticket quantities.	\n\n\n		\n		\n		\n	\n		Tickets are no longer available	\n\n\n		\n	\n	\n\n	\n	\n\n	\n	\n\n\n\n			\n\n	\n\n\n				\n				\n				\n					\n				\n		\n					\n				\n				\n					\n\n\n	\n	Responses\n\n		\n		 You must be logged in to post a comment.
URL:https://negozee.com/event/fundamentos-contabilidad-19may2025/
CATEGORIES:Webinar
ATTACH;FMTTYPE=image/png:https://wp-negozee-conent.s3.amazonaws.com/wp-content/uploads/2025/04/26083211/CONTABILIDAD-BASICA-TARJETAS-DE-CREDITO-1.png
ORGANIZER;CN="negozee":MAILTO:info@negozee.com
END:VEVENT
END:VCALENDAR