BEGIN:VCALENDAR
VERSION:2.0
PRODID:-//negozee - ECPv6.15.12.2//NONSGML v1.0//EN
CALSCALE:GREGORIAN
METHOD:PUBLISH
X-WR-CALNAME:negozee
X-ORIGINAL-URL:https://negozee.com
X-WR-CALDESC:Events for negozee
REFRESH-INTERVAL;VALUE=DURATION:PT1H
X-Robots-Tag:noindex
X-PUBLISHED-TTL:PT1H
BEGIN:VTIMEZONE
TZID:America/Los_Angeles
BEGIN:DAYLIGHT
TZOFFSETFROM:-0800
TZOFFSETTO:-0700
TZNAME:PDT
DTSTART:20240310T100000
END:DAYLIGHT
BEGIN:STANDARD
TZOFFSETFROM:-0700
TZOFFSETTO:-0800
TZNAME:PST
DTSTART:20241103T090000
END:STANDARD
BEGIN:DAYLIGHT
TZOFFSETFROM:-0800
TZOFFSETTO:-0700
TZNAME:PDT
DTSTART:20250309T100000
END:DAYLIGHT
BEGIN:STANDARD
TZOFFSETFROM:-0700
TZOFFSETTO:-0800
TZNAME:PST
DTSTART:20251102T090000
END:STANDARD
BEGIN:DAYLIGHT
TZOFFSETFROM:-0800
TZOFFSETTO:-0700
TZNAME:PDT
DTSTART:20260308T100000
END:DAYLIGHT
BEGIN:STANDARD
TZOFFSETFROM:-0700
TZOFFSETTO:-0800
TZNAME:PST
DTSTART:20261101T090000
END:STANDARD
END:VTIMEZONE
BEGIN:VEVENT
DTSTART;TZID=America/Los_Angeles:20250514T090000
DTEND;TZID=America/Los_Angeles:20250514T100000
DTSTAMP:20260419T210814
CREATED:20250422T144221Z
LAST-MODIFIED:20250422T145005Z
UID:96416-1747213200-1747216800@negozee.com
SUMMARY:Expande tus Finanzas [zoom virtual] May 2025
DESCRIPTION:¡Toma el control de tus finanzas y alcanza tus metas!				\n				\n				\n				\n							\n			 Days Hours Minutes Seconds		\n						\n				\n				\n				\n									¡Aprovecha esta oportunidad única de actualizarte en el mundo de los impuestos! Únete a nuestro curso en español y mantente al día con los cambios más recientes que impactan tu práctica profesional. 								\n				\n		\n				\n				\n					Miércoles 14 de Mayo del 2025				\n				\n				\n				\n									⏰ 9:00 AM hora PDT⏰ 11:00 AM hora CT⏰ 12:00 PM hora ET								\n				\n				\n				\n				\n					\n	\n		\n\n	\n	Add to calendar	\n		\n	\n\n		\n			\n									\n	Google Calendar\n\n									\n	iCalendar\n\n									\n	Outlook 365\n\n									\n	Outlook Live\n\n							\n		\n\n		\n	\n\n				\n				\n				\n				\n					¿Qué aprenderás?				\n				\n		\n		\n				\n				\n					¡Mejore sus estabilidades financieras y mantenga su estabilidad!				\n				\n				\n				\n									¿Quieres tomar el control de tu futuro financiero? Únete a nuestro webinar con la experta Vanessa Vázquez. Aprende estrategias prácticas para aumentar tus ingresos\, ahorrar de manera efectiva y alcanzar tus metas. 								\n				\n				\n		\n				\n				\n									En nuestro webinar “Expande tus Finanzas”\, Vanessa Vázquez te enseñará cómo: Aumentar tus ingresos: Descubre nuevas fuentes de dinero.Ahorrar de manera inteligente: Crea un fondo de emergencia y alcanza tus metas más rápido.Invertir con seguridad: Multiplica tu dinero a largo plazo.Reducir tus deudas: ¡Di adiós a las preocupaciones financieras!								\n				\n				\n				\n		\n		\n					\n				\n				\n					Hay 2 maneras para registrarte al evento:				\n				\n				\n				\n									1.  Sign in y regístrarte por $36 en Tickets 2. Inscríbete a la membresía de negozee por $32 al mes y recibe acceso. 								\n				\n					\n				\n		\n				\n				\n					\n	\n\n		\n		\n		\n\n		\n\n\n		\n\n\n\n	Tickets\n\n		\n	\n	\n		The numbers below include tickets for this event already in your cart. Clicking "Get Tickets" will allow you to edit any existing attendee information as well as change ticket quantities.	\n\n\n		\n		\n		\n	\n		Tickets are no longer available	\n\n\n		\n	\n	\n\n	\n	\n\n	\n	\n\n\n\n			\n\n	\n\n\n				\n				\n				\n				\n					\n				\n		\n					\n				\n				\n					\n\n\n	\n	Responses\n\n		\n		 You must be logged in to post a comment.
URL:https://negozee.com/event/expande-tus-finanzas-may-2025/
CATEGORIES:Charla
ATTACH;FMTTYPE=image/jpeg:https://wp-negozee-conent.s3.amazonaws.com/wp-content/uploads/2025/01/26084437/Expande-tus-Finanzas-negozee-THUMBNAIL.jpg
ORGANIZER;CN="negozee":MAILTO:info@negozee.com
END:VEVENT
END:VCALENDAR