BEGIN:VCALENDAR
VERSION:2.0
PRODID:-//negozee - ECPv6.15.12.2//NONSGML v1.0//EN
CALSCALE:GREGORIAN
METHOD:PUBLISH
X-WR-CALNAME:negozee
X-ORIGINAL-URL:https://negozee.com
X-WR-CALDESC:Events for negozee
REFRESH-INTERVAL;VALUE=DURATION:PT1H
X-Robots-Tag:noindex
X-PUBLISHED-TTL:PT1H
BEGIN:VTIMEZONE
TZID:America/Los_Angeles
BEGIN:DAYLIGHT
TZOFFSETFROM:-0800
TZOFFSETTO:-0700
TZNAME:PDT
DTSTART:20240310T100000
END:DAYLIGHT
BEGIN:STANDARD
TZOFFSETFROM:-0700
TZOFFSETTO:-0800
TZNAME:PST
DTSTART:20241103T090000
END:STANDARD
BEGIN:DAYLIGHT
TZOFFSETFROM:-0800
TZOFFSETTO:-0700
TZNAME:PDT
DTSTART:20250309T100000
END:DAYLIGHT
BEGIN:STANDARD
TZOFFSETFROM:-0700
TZOFFSETTO:-0800
TZNAME:PST
DTSTART:20251102T090000
END:STANDARD
BEGIN:DAYLIGHT
TZOFFSETFROM:-0800
TZOFFSETTO:-0700
TZNAME:PDT
DTSTART:20260308T100000
END:DAYLIGHT
BEGIN:STANDARD
TZOFFSETFROM:-0700
TZOFFSETTO:-0800
TZNAME:PST
DTSTART:20261101T090000
END:STANDARD
END:VTIMEZONE
BEGIN:VEVENT
DTSTART;TZID=America/Los_Angeles:20250610T160000
DTEND;TZID=America/Los_Angeles:20250610T170000
DTSTAMP:20260419T133443
CREATED:20250530T152303Z
LAST-MODIFIED:20250610T192527Z
UID:99859-1749571200-1749574800@negozee.com
SUMMARY:Emprende Servicios Legales June 10 2025
DESCRIPTION:Days Hours Minutes Seconds		\n						\n				\n				\n				\n							\n			\n		\n						\n				\n					\n				\n		\n					\n				\n				\n					Pregúntele en vivo con expertos				\n				\n				\n				\n									Invitados especiales\, Claudia Cobreiro  & Daniel Guadalupe\, profesionales certificados en planificación financiera (CFP)\, quienes cuentan con los más rigurosos estándares y conocimiento actualizado puesto a su servicio. Podrá resolver sus dudas en cuanto a: Planificación de negociosPlanificación PatrimonialDerecho financiero y de inversionesImpuestos globalesDerecho empresarialServicios de oficina familiar								\n				\n				\n				\n									\n					\n						\n						\n							\n									Regístrate\n					\n					\n				\n								\n				\n				\n				\n					\n	\n		\n\n	\n	Add to calendar	\n		\n	\n\n		\n			\n									\n	Google Calendar\n\n									\n	iCalendar\n\n									\n	Outlook 365\n\n									\n	Outlook Live\n\n							\n		\n\n		\n	\n\n				\n				\n				\n				\n																\n															\n															\n				\n				\n				\n					Claudia CobreiroLa abogada Claudia Cobreiro completó su licenciatura en la Universidad de Florida (UF) y posteriormente cursó la carrera de Derecho en la Universidad Internacional de Florida (FIU)\, donde fue nombrada Honoraria del Decano y Presidenta de la Asociación Cubano-Americana de Abogados (CABA). Como estudiante de tiempo completo durante sus estudios de Derecho\, Claudia trabajó en un bufete local que asesoraba a clientes en derecho de bancarrota\, derecho inmobiliario y derecho de familia. Tras graduarse\, se incorporó a una firma boutique representando a clientes en diversos asuntos civiles\, incluyendo derecho de familia\, derecho inmobiliario\, derecho mercantil\, sucesiones y planificación patrimonial. Durante su trayectoria profesional\, ascendió hasta convertirse en Socia Principal del bufete.\n\nRecientemente\, Claudia fundó Cobreiro Law con la promesa de brindar a sus clientes un servicio\, claridad y orientación inigualables en sus complejos asuntos legales. 				\n				\n				\n				\n					\n\n\n	\n	Responses\n\n		\n		 You must be logged in to post a comment.
URL:https://negozee.com/event/emprende-servicios-legales-june-10-2025/
ATTACH;FMTTYPE=image/jpeg:https://wp-negozee-conent.s3.amazonaws.com/wp-content/uploads/2025/05/26082923/MARTES-11-de-marzo.jpg
ORGANIZER;CN="negozee":MAILTO:info@negozee.com
END:VEVENT
END:VCALENDAR