BEGIN:VCALENDAR
VERSION:2.0
PRODID:-//negozee - ECPv6.15.12.2//NONSGML v1.0//EN
CALSCALE:GREGORIAN
METHOD:PUBLISH
X-WR-CALNAME:negozee
X-ORIGINAL-URL:https://negozee.com
X-WR-CALDESC:Events for negozee
REFRESH-INTERVAL;VALUE=DURATION:PT1H
X-Robots-Tag:noindex
X-PUBLISHED-TTL:PT1H
BEGIN:VTIMEZONE
TZID:America/Los_Angeles
BEGIN:DAYLIGHT
TZOFFSETFROM:-0800
TZOFFSETTO:-0700
TZNAME:PDT
DTSTART:20240310T100000
END:DAYLIGHT
BEGIN:STANDARD
TZOFFSETFROM:-0700
TZOFFSETTO:-0800
TZNAME:PST
DTSTART:20241103T090000
END:STANDARD
BEGIN:DAYLIGHT
TZOFFSETFROM:-0800
TZOFFSETTO:-0700
TZNAME:PDT
DTSTART:20250309T100000
END:DAYLIGHT
BEGIN:STANDARD
TZOFFSETFROM:-0700
TZOFFSETTO:-0800
TZNAME:PST
DTSTART:20251102T090000
END:STANDARD
BEGIN:DAYLIGHT
TZOFFSETFROM:-0800
TZOFFSETTO:-0700
TZNAME:PDT
DTSTART:20260308T100000
END:DAYLIGHT
BEGIN:STANDARD
TZOFFSETFROM:-0700
TZOFFSETTO:-0800
TZNAME:PST
DTSTART:20261101T090000
END:STANDARD
END:VTIMEZONE
BEGIN:VEVENT
DTSTART;TZID=America/Los_Angeles:20250530T130000
DTEND;TZID=America/Los_Angeles:20250530T140000
DTSTAMP:20260419T175240
CREATED:20250423T133403Z
LAST-MODIFIED:20250423T152715Z
UID:96586-1748610000-1748613600@negozee.com
SUMMARY:Emprende Insurance – May 2025 negozee LIFE
DESCRIPTION:Emprende Insurance				\n				\n					\n				\n		\n					\n		\n				\n				\n									Aprende cómo incluir servicios de seguros en tu negocio y aumentar tus ingresos con esta oportunidad. 								\n				\n				\n				\n							\n			\n						\n		\n						\n				\n				\n		\n		\n				\n				\n							\n\n						\n				\n								\n			\n			\n						\n\n									\n						\n							¿Cuando?						\n					\n				\n									\n						Este viernes 30 de Mayo\n⏰ 1:00 pm PT | 3:00 pm CT | 4:00 pm ET					 \n				\n			\n			\n		\n						\n				\n				\n				\n									📌 Acceso Abierto – No necesitas boleto 								\n				\n				\n				\n				\n				\n									\n					\n						\n						\n							\n									Regístrate Aquí\n					\n					\n				\n								\n				\n				\n				\n					\n	\n		\n\n	\n	Add to calendar	\n		\n	\n\n		\n			\n									\n	Google Calendar\n\n									\n	iCalendar\n\n									\n	Outlook 365\n\n									\n	Outlook Live\n\n							\n		\n\n		\n	\n\n				\n				\n					\n				\n		\n					\n				\n				\n					\n\n\n	\n	Responses\n\n		\n		 You must be logged in to post a comment.
URL:https://negozee.com/event/emprende-insurance-may-2025/
ATTACH;FMTTYPE=image/png:https://wp-negozee-conent.s3.amazonaws.com/wp-content/uploads/2025/04/26083723/Abril-2025.png
ORGANIZER;CN="negozee":MAILTO:info@negozee.com
END:VEVENT
END:VCALENDAR