BEGIN:VCALENDAR
VERSION:2.0
PRODID:-//negozee - ECPv6.15.12.2//NONSGML v1.0//EN
CALSCALE:GREGORIAN
METHOD:PUBLISH
X-WR-CALNAME:negozee
X-ORIGINAL-URL:https://negozee.com
X-WR-CALDESC:Events for negozee
REFRESH-INTERVAL;VALUE=DURATION:PT1H
X-Robots-Tag:noindex
X-PUBLISHED-TTL:PT1H
BEGIN:VTIMEZONE
TZID:America/Los_Angeles
BEGIN:DAYLIGHT
TZOFFSETFROM:-0800
TZOFFSETTO:-0700
TZNAME:PDT
DTSTART:20240310T100000
END:DAYLIGHT
BEGIN:STANDARD
TZOFFSETFROM:-0700
TZOFFSETTO:-0800
TZNAME:PST
DTSTART:20241103T090000
END:STANDARD
BEGIN:DAYLIGHT
TZOFFSETFROM:-0800
TZOFFSETTO:-0700
TZNAME:PDT
DTSTART:20250309T100000
END:DAYLIGHT
BEGIN:STANDARD
TZOFFSETFROM:-0700
TZOFFSETTO:-0800
TZNAME:PST
DTSTART:20251102T090000
END:STANDARD
BEGIN:DAYLIGHT
TZOFFSETFROM:-0800
TZOFFSETTO:-0700
TZNAME:PDT
DTSTART:20260308T100000
END:DAYLIGHT
BEGIN:STANDARD
TZOFFSETFROM:-0700
TZOFFSETTO:-0800
TZNAME:PST
DTSTART:20261101T090000
END:STANDARD
END:VTIMEZONE
BEGIN:VEVENT
DTSTART;TZID=America/Los_Angeles:20250408T160000
DTEND;TZID=America/Los_Angeles:20250408T170000
DTSTAMP:20260419T175436
CREATED:20250314T163217Z
LAST-MODIFIED:20250408T211239Z
UID:92496-1744128000-1744131600@negozee.com
SUMMARY:Emprende Servicios Legales April 2025
DESCRIPTION:Days Hours Minutes Seconds		\n						\n				\n				\n				\n							\n			\n		\n						\n				\n					\n				\n		\n					\n				\n				\n					Emprende Servicios Legales				\n				\n				\n				\n									Únete a nosotros en un evento innovador donde podrás resolver tus dudas y encontrar soluciones expertas en servicios legales. Este evento está diseñado para abordar una amplia gama de temas legales que afectan tanto a empresas como a familias en Estados Unidos. Temas de Discusión: Planificación de Negocios: Aprende a estructurar tu empresa para el éxito\, desde la creación hasta la expansión\, con estrategias efectivas para enfrentar desafíos legales. Planificación Patrimonial: Protege tus activos y asegura el futuro de tu familia con consejos expertos en testamentos\, fideicomisos y más. Derecho Financiero y de Inversiones: Navega las complejidades del derecho financiero y maximiza tus inversiones con asesoramiento especializado. Impuestos Globales: Entiende cómo manejar tus obligaciones fiscales a nivel internacional y reduce tu carga impositiva. Derecho Empresarial: Conoce las mejores prácticas para operar tu negocio de manera legal y eficiente\, desde contratos hasta disputas comerciales. Servicios de Oficina Familiar: Recibe orientación sobre asuntos legales familiares\, incluyendo divorcios\, custodia de menores y más. Beneficios del Evento: Conferencias Interactivas: Participa en sesiones informativas con expertos en derecho. Redes de Contactos: Conecta con otros profesionales y empresarios para expandir tus oportunidades. Asesoramiento Personalizado: Recibe respuestas directas a tus preguntas durante las sesiones de Q&A. 								\n				\n				\n				\n									\n					\n						\n									Regístrate\n					\n					\n				\n								\n				\n				\n				\n					\n	\n		\n\n	\n	Add to calendar	\n		\n	\n\n		\n			\n									\n	Google Calendar\n\n									\n	iCalendar\n\n									\n	Outlook 365\n\n									\n	Outlook Live\n\n							\n		\n\n		\n	\n\n				\n				\n				\n				\n					\n\n\n	\n	Responses\n\n		\n		 You must be logged in to post a comment. 	\n			\n		\n			\n		\n\n	\n\n							\n					\n											\n				\n			\n		\n			\n				Claudia Ruiz				\n					March 31\, 2025				\n			\n\n			\n			\n				Excelentes temas! \n			\n\n			\n				Log in to Reply
URL:https://negozee.com/event/emp-serv-legal-april-2025/
CATEGORIES:Clase Virtual,Meeting
ATTACH;FMTTYPE=image/png:https://wp-negozee-conent.s3.amazonaws.com/wp-content/uploads/2025/03/26083839/QA-SERGIO-JIMENEZ-NEGOZEE-9.png
ORGANIZER;CN="negozee":MAILTO:info@negozee.com
END:VEVENT
END:VCALENDAR