BEGIN:VCALENDAR
VERSION:2.0
PRODID:-//negozee - ECPv6.15.12.2//NONSGML v1.0//EN
CALSCALE:GREGORIAN
METHOD:PUBLISH
X-WR-CALNAME:negozee
X-ORIGINAL-URL:https://negozee.com
X-WR-CALDESC:Events for negozee
REFRESH-INTERVAL;VALUE=DURATION:PT1H
X-Robots-Tag:noindex
X-PUBLISHED-TTL:PT1H
BEGIN:VTIMEZONE
TZID:America/Los_Angeles
BEGIN:DAYLIGHT
TZOFFSETFROM:-0800
TZOFFSETTO:-0700
TZNAME:PDT
DTSTART:20230312T100000
END:DAYLIGHT
BEGIN:STANDARD
TZOFFSETFROM:-0700
TZOFFSETTO:-0800
TZNAME:PST
DTSTART:20231105T090000
END:STANDARD
BEGIN:DAYLIGHT
TZOFFSETFROM:-0800
TZOFFSETTO:-0700
TZNAME:PDT
DTSTART:20240310T100000
END:DAYLIGHT
BEGIN:STANDARD
TZOFFSETFROM:-0700
TZOFFSETTO:-0800
TZNAME:PST
DTSTART:20241103T090000
END:STANDARD
BEGIN:DAYLIGHT
TZOFFSETFROM:-0800
TZOFFSETTO:-0700
TZNAME:PDT
DTSTART:20250309T100000
END:DAYLIGHT
BEGIN:STANDARD
TZOFFSETFROM:-0700
TZOFFSETTO:-0800
TZNAME:PST
DTSTART:20251102T090000
END:STANDARD
END:VTIMEZONE
BEGIN:VEVENT
DTSTART;TZID=America/Los_Angeles:20240916T160000
DTEND;TZID=America/Los_Angeles:20240916T190000
DTSTAMP:20260420T132651
CREATED:20240627T005939Z
LAST-MODIFIED:20241015T142114Z
UID:56297-1726502400-1726513200@negozee.com
SUMMARY:Contabilidad Básica para NO contadores
DESCRIPTION:Days Hours Minutes Seconds		\n						\n				\n				\n				\n							\n			\n		\n						\n				\n					\n				\n		\n					\n				\n				\n					¡Únete a Zailili Tovar en su webinar "Contabilidad básica para NO contadores".				\n				\n				\n				\n							\n			\n		\n						\n				\n				\n				\n									Diseñado específicamente para dueños de negocios y profesionales de impuestos\, esta sesión te proporcionará las herramientas y conocimientos necesarios para dominar los conceptos contables esenciales y prepárate para llevar tu comprensión financiera al siguiente nivel. Fecha y hora: Lunes 16 de Septiembre a las 4:00 pm hora PDT Sponsored by:   								\n				\n					\n				\n		\n					\n				\n				\n							\n			\n		\n						\n				\n					\n				\n		\n					\n		\n				\n				\n					Hay 2 maneras para registrarte al evento:				\n				\n				\n				\n									1.  Sign in y regístrarte por $36 en Tickets 2. Inscríbete a la membresía de negozee por $28 al mes y recibe acceso. 								\n				\n		\n				\n				\n					\n	\n		\n\n	\n	Add to calendar	\n		\n	\n\n		\n			\n									\n	Google Calendar\n\n									\n	iCalendar\n\n									\n	Outlook 365\n\n									\n	Outlook Live\n\n							\n		\n\n		\n	\n\n				\n				\n				\n				\n				\n				\n							\n			\n		\n						\n				\n		\n				\n				\n					\n	\n\n		\n		\n		\n\n		\n\n\n		\n\n\n\n	Tickets\n\n		\n	\n	\n		The numbers below include tickets for this event already in your cart. Clicking "Get Tickets" will allow you to edit any existing attendee information as well as change ticket quantities.	\n\n\n		\n		\n		\n	\n		Tickets are no longer available	\n\n\n		\n	\n	\n\n	\n	\n\n	\n	\n\n\n\n			\n\n	\n\n\n				\n				\n				\n					\n				\n		\n					\n				\n				\n					\n\n\n	\n	Responses\n\n		\n		 You must be logged in to post a comment. 	\n			\n		\n			\n		\n\n	\n\n							\n					\n											\n				\n			\n		\n			\n				america				\n					September 16\, 2024				\n			\n\n			\n			\n				COMO PUEDE REGISTRARME PARA ESCUCHAR LA CLASE DE CONTABILIDAD HOY LUNES  DE SEPTIEMBRE? \n			\n\n			\n				Log in to Reply\n							\n				\n		\n\n		\n\n	\n\n							\n					\n											\n				\n			\n		\n			\n				Maria Chavez				\n					September 16\, 2024				\n			\n\n			\n			\n				Hola America favor de llamarme al (650) 889-4499 para ayudarte lo mas pronto te sea posible.  Gracias! \n			\n\n			\n				Log in to Reply\n							\n				\n		\n\n\n\n		\n\n	\n\n							\n					\n											\n				\n			\n		\n			\n				Juan Palomino				\n					September 16\, 2024				\n			\n\n			\n			\n				Quiero registrarme para la clase de contabilidad de hoy lunes 16 de septiembre pero no me deja el sistema\, soy miembro de Negozee \n			\n\n			\n				Log in to Reply\n							\n				\n		\n\n		\n\n	\n\n							\n					\n											\n				\n			\n		\n			\n				Maria Chavez				\n					September 16\, 2024				\n			\n\n			\n			\n				Hola Jose\, favor de llamarme al (650) 889-4499 para ayudarte lo mas pronto te sea posible.  Gracias! \n			\n\n			\n				Log in to Reply\n							\n				\n		\n\n\n\n		\n\n	\n\n							\n					\n											\n				\n			\n		\n			\n				NELLY TREJO				\n					September 16\, 2024				\n			\n\n			\n			\n				Donde esta el link.\nYa llevo mas de media hora buscandolo para ingresar. \n			\n\n			\n				Log in to Reply
URL:https://negozee.com/event/contabilidad-basica-para-no-contadores-4/
CATEGORIES:Webinar
ATTACH;FMTTYPE=image/png:https://wp-negozee-conent.s3.amazonaws.com/wp-content/uploads/2024/06/26085501/Contabilidad-Basica_SoldOut-1.png
ORGANIZER;CN="negozee":MAILTO:info@negozee.com
END:VEVENT
END:VCALENDAR