BEGIN:VCALENDAR
VERSION:2.0
PRODID:-//negozee - ECPv6.15.12.2//NONSGML v1.0//EN
CALSCALE:GREGORIAN
METHOD:PUBLISH
X-WR-CALNAME:negozee
X-ORIGINAL-URL:https://negozee.com
X-WR-CALDESC:Events for negozee
REFRESH-INTERVAL;VALUE=DURATION:PT1H
X-Robots-Tag:noindex
X-PUBLISHED-TTL:PT1H
BEGIN:VTIMEZONE
TZID:America/Los_Angeles
BEGIN:DAYLIGHT
TZOFFSETFROM:-0800
TZOFFSETTO:-0700
TZNAME:PDT
DTSTART:20230312T100000
END:DAYLIGHT
BEGIN:STANDARD
TZOFFSETFROM:-0700
TZOFFSETTO:-0800
TZNAME:PST
DTSTART:20231105T090000
END:STANDARD
BEGIN:DAYLIGHT
TZOFFSETFROM:-0800
TZOFFSETTO:-0700
TZNAME:PDT
DTSTART:20240310T100000
END:DAYLIGHT
BEGIN:STANDARD
TZOFFSETFROM:-0700
TZOFFSETTO:-0800
TZNAME:PST
DTSTART:20241103T090000
END:STANDARD
BEGIN:DAYLIGHT
TZOFFSETFROM:-0800
TZOFFSETTO:-0700
TZNAME:PDT
DTSTART:20250309T100000
END:DAYLIGHT
BEGIN:STANDARD
TZOFFSETFROM:-0700
TZOFFSETTO:-0800
TZNAME:PST
DTSTART:20251102T090000
END:STANDARD
END:VTIMEZONE
BEGIN:VEVENT
DTSTART;TZID=America/Los_Angeles:20241213T190000
DTEND;TZID=America/Los_Angeles:20241213T220000
DTSTAMP:20260420T061337
CREATED:20241211T135348Z
LAST-MODIFIED:20241212T194952Z
UID:74678-1734116400-1734127200@negozee.com
SUMMARY:Christmas Party 2024
DESCRIPTION:Days Hours Minutes Seconds		\n						\n				\n				\n				\n							\n			\n		\n						\n				\n					\n				\n		\n					\n				\n				\n					¡Estás invitado a la Christmas Party de los miembros de Negozee! 🎉				\n				\n				\n				\n							\n			\n		\n						\n				\n				\n				\n									Únete a nosotros para celebrar la temporada navideña con alegría y camaradería. Será una noche llena de diversión\, buena comida y sorpresas. No te pierdas la oportunidad de compartir momentos especiales con tus compañeros. 								\n				\n		\n		\n				\n				\n							\n\n						\n				\n								\n			\n			\n						\n\n									\n						\n							¿Cuando?						\n					\n				\n									\n						Viernes 13 de Diciembre \n7PM - 11:00PM (Central Time )					 \n				\n			\n			\n		\n						\n				\n				\n				\n							\n\n						\n				\n								\n			\n			\n						\n\n									\n						\n							¿Donde?​						\n					\n				\n									\n						VIVA JALISCO BAR & GRILL 12036 Veterans Memorial Dr Houston\, TX 77067					 \n				\n			\n			\n		\n						\n				\n				\n		\n				\n				\n							\n			\n		\n						\n				\n				\n				\n					\n				\n		\n					\n				\n				\n					¡Consigue tu entrada!				\n				\n				\n				\n					\n	\n\n		\n		\n		\n\n		\n\n\n		\n\n\n\n	Tickets\n\n		\n	\n	\n		The numbers below include tickets for this event already in your cart. Clicking "Get Tickets" will allow you to edit any existing attendee information as well as change ticket quantities.	\n\n\n		\n		\n		\n	\n		Tickets are no longer available	\n\n\n		\n	\n	\n\n	\n	\n\n	\n	\n\n\n\n			\n\n	\n\n\n				\n				\n					\n				\n		\n					\n				\n				\n					\n	\n		\n\n	\n	Add to calendar	\n		\n	\n\n		\n			\n									\n	Google Calendar\n\n									\n	iCalendar\n\n									\n	Outlook 365\n\n									\n	Outlook Live\n\n							\n		\n\n		\n	\n\n				\n				\n				\n				\n					¡Felices fiestas!				\n				\n					\n				\n		\n					\n				\n				\n					\n\n\n	\n	Responses\n\n		\n		 You must be logged in to post a comment. 	\n			\n		\n			\n		\n\n	\n\n							\n					\n											\n				\n			\n		\n			\n				Selene Reyes				\n					December 11\, 2024				\n			\n\n			\n			\n				Por favor RSVP! \n			\n\n			\n				Log in to Reply
URL:https://negozee.com/event/christmas-party-2024/
ATTACH;FMTTYPE=image/jpeg:https://wp-negozee-conent.s3.amazonaws.com/wp-content/uploads/2024/12/26084907/WhatsApp-Image-2024-12-10-at-22.26.35.jpeg
ORGANIZER;CN="negozee":MAILTO:info@negozee.com
END:VEVENT
END:VCALENDAR