BEGIN:VCALENDAR
VERSION:2.0
PRODID:-//negozee - ECPv6.15.12.2//NONSGML v1.0//EN
CALSCALE:GREGORIAN
METHOD:PUBLISH
X-WR-CALNAME:negozee
X-ORIGINAL-URL:https://negozee.com
X-WR-CALDESC:Events for negozee
REFRESH-INTERVAL;VALUE=DURATION:PT1H
X-Robots-Tag:noindex
X-PUBLISHED-TTL:PT1H
BEGIN:VTIMEZONE
TZID:America/Los_Angeles
BEGIN:DAYLIGHT
TZOFFSETFROM:-0800
TZOFFSETTO:-0700
TZNAME:PDT
DTSTART:20230312T100000
END:DAYLIGHT
BEGIN:STANDARD
TZOFFSETFROM:-0700
TZOFFSETTO:-0800
TZNAME:PST
DTSTART:20231105T090000
END:STANDARD
BEGIN:DAYLIGHT
TZOFFSETFROM:-0800
TZOFFSETTO:-0700
TZNAME:PDT
DTSTART:20240310T100000
END:DAYLIGHT
BEGIN:STANDARD
TZOFFSETFROM:-0700
TZOFFSETTO:-0800
TZNAME:PST
DTSTART:20241103T090000
END:STANDARD
BEGIN:DAYLIGHT
TZOFFSETFROM:-0800
TZOFFSETTO:-0700
TZNAME:PDT
DTSTART:20250309T100000
END:DAYLIGHT
BEGIN:STANDARD
TZOFFSETFROM:-0700
TZOFFSETTO:-0800
TZNAME:PST
DTSTART:20251102T090000
END:STANDARD
END:VTIMEZONE
BEGIN:VEVENT
DTSTART;TZID=America/Los_Angeles:20241029T120000
DTEND;TZID=America/Los_Angeles:20241029T130000
DTSTAMP:20260420T123227
CREATED:20241003T213215Z
LAST-MODIFIED:20241003T225028Z
UID:65787-1730203200-1730206800@negozee.com
SUMMARY:Certificación y Contratos: Diversidad en Acción
DESCRIPTION:Days Hours Minutes Seconds		\n						\n				\n				\n				\n							\n			\n		\n						\n				\n					\n				\n		\n					\n				\n				\n					Diversidad que Vende: ¡Certifícate Ya!				\n				\n				\n				\n							\n			\n		\n						\n				\n				\n				\n									¿Estás listo para llevar tu negocio al siguiente nivel? Asiste a nuestro webinar Diversidad en Acción y descubre las estrategias clave para aprovechar al máximo las oportunidades del mercado y hacer crecer tu empresa de manera exponencial. No te pierdas esta oportunidad única de aprender cómo la diversidad puede impulsar el crecimiento de tu negocio y abrir nuevas puertas al éxito. Nuestro taller tiene como objetivo proporcionarle el conocimiento y las herramientas esenciales para navegar exitosamente el proceso de obtener la certificación minoritaria y cotizar contratos gubernamentales lucrativos.  En este webinar\, aprenderás: – Obtener una comprensión integral de los diversos programas de certificación minoritaria disponibles a nivel local\, estatal y federal. – Aprender el proceso paso a paso para solicitar y obtener la certificación minoritaria. – Descubrir los beneficios y oportunidades que vienen con ser un negocio certificado como minoritario. – Explorar estrategias para identificar y perseguir oportunidades de contratos gubernamentales. – Recibir consejos prácticos sobre cómo preparar propuestas y ofertas ganadoras. – Escuchar historias de éxito y mejores prácticas de dueños de negocios minoritarios que han navegado exitosamente los procesos de certificación y contratación. Fecha y hora:  Martes 29 de Octubre a las 12 – 1pm GMT-5 								\n				\n				\n				\n									\n					\n						\n									Regístrate\n					\n					\n				\n								\n				\n				\n				\n					\n	\n		\n\n	\n	Add to calendar	\n		\n	\n\n		\n			\n									\n	Google Calendar\n\n									\n	iCalendar\n\n									\n	Outlook 365\n\n									\n	Outlook Live\n\n							\n		\n\n		\n	\n\n				\n				\n				\n				\n					\n\n\n	\n	Responses\n\n		\n		 You must be logged in to post a comment.
URL:https://negozee.com/event/certificacion-contratos-diversidad_en_accion/
CATEGORIES:Clase Virtual,Webinar
ATTACH;FMTTYPE=image/png:https://wp-negozee-conent.s3.amazonaws.com/wp-content/uploads/2024/10/26085611/Captura-de-pantalla-2024-10-03-162919.png
ORGANIZER;CN="negozee":MAILTO:info@negozee.com
END:VEVENT
END:VCALENDAR